BEGIN:VCALENDAR
VERSION:2.0
PRODID:-//Connors State College - ECPv6.15.20//NONSGML v1.0//EN
CALSCALE:GREGORIAN
METHOD:PUBLISH
X-WR-CALNAME:Connors State College
X-ORIGINAL-URL:https://connorsstate.edu
X-WR-CALDESC:Events for Connors State College
REFRESH-INTERVAL;VALUE=DURATION:PT1H
X-Robots-Tag:noindex
X-PUBLISHED-TTL:PT1H
BEGIN:VTIMEZONE
TZID:America/Chicago
BEGIN:DAYLIGHT
TZOFFSETFROM:-0600
TZOFFSETTO:-0500
TZNAME:CDT
DTSTART:20210314T080000
END:DAYLIGHT
BEGIN:STANDARD
TZOFFSETFROM:-0500
TZOFFSETTO:-0600
TZNAME:CST
DTSTART:20211107T070000
END:STANDARD
BEGIN:DAYLIGHT
TZOFFSETFROM:-0600
TZOFFSETTO:-0500
TZNAME:CDT
DTSTART:20220313T080000
END:DAYLIGHT
BEGIN:STANDARD
TZOFFSETFROM:-0500
TZOFFSETTO:-0600
TZNAME:CST
DTSTART:20221106T070000
END:STANDARD
BEGIN:DAYLIGHT
TZOFFSETFROM:-0600
TZOFFSETTO:-0500
TZNAME:CDT
DTSTART:20230312T080000
END:DAYLIGHT
BEGIN:STANDARD
TZOFFSETFROM:-0500
TZOFFSETTO:-0600
TZNAME:CST
DTSTART:20231105T070000
END:STANDARD
END:VTIMEZONE
BEGIN:VEVENT
DTSTART;TZID=America/Chicago:20220506T140000
DTEND;TZID=America/Chicago:20220506T160000
DTSTAMP:20260424T101947
CREATED:20220208T181336Z
LAST-MODIFIED:20220208T181336Z
UID:26166-1651845600-1651852800@connorsstate.edu
SUMMARY:Nurse Pinning Ceremony
DESCRIPTION:
URL:https://connorsstate.edu/event/nurse-pinning-ceremony/
LOCATION:Fine Arts Auditorium\, 700 College Rd\, Warner\, OK\, 74469\, United States
ORGANIZER;CN="Tracy Lieblang":MAILTO:tracy.liblang@connorsstate.edu
END:VEVENT
BEGIN:VEVENT
DTSTART;TZID=America/Chicago:20220506T190000
DTEND;TZID=America/Chicago:20220506T210000
DTSTAMP:20260424T101947
CREATED:20210524T202241Z
LAST-MODIFIED:20210524T202241Z
UID:23774-1651863600-1651870800@connorsstate.edu
SUMMARY:Commencement
DESCRIPTION:
URL:https://connorsstate.edu/event/commencement/
LOCATION:OK
END:VEVENT
END:VCALENDAR