BEGIN:VCALENDAR
VERSION:2.0
PRODID:-//Connors State College - ECPv6.15.20//NONSGML v1.0//EN
CALSCALE:GREGORIAN
METHOD:PUBLISH
X-WR-CALNAME:Connors State College
X-ORIGINAL-URL:https://connorsstate.edu
X-WR-CALDESC:Events for Connors State College
REFRESH-INTERVAL;VALUE=DURATION:PT1H
X-Robots-Tag:noindex
X-PUBLISHED-TTL:PT1H
BEGIN:VTIMEZONE
TZID:America/Chicago
BEGIN:DAYLIGHT
TZOFFSETFROM:-0600
TZOFFSETTO:-0500
TZNAME:CDT
DTSTART:20210314T080000
END:DAYLIGHT
BEGIN:STANDARD
TZOFFSETFROM:-0500
TZOFFSETTO:-0600
TZNAME:CST
DTSTART:20211107T070000
END:STANDARD
BEGIN:DAYLIGHT
TZOFFSETFROM:-0600
TZOFFSETTO:-0500
TZNAME:CDT
DTSTART:20220313T080000
END:DAYLIGHT
BEGIN:STANDARD
TZOFFSETFROM:-0500
TZOFFSETTO:-0600
TZNAME:CST
DTSTART:20221106T070000
END:STANDARD
BEGIN:DAYLIGHT
TZOFFSETFROM:-0600
TZOFFSETTO:-0500
TZNAME:CDT
DTSTART:20230312T080000
END:DAYLIGHT
BEGIN:STANDARD
TZOFFSETFROM:-0500
TZOFFSETTO:-0600
TZNAME:CST
DTSTART:20231105T070000
END:STANDARD
END:VTIMEZONE
BEGIN:VEVENT
DTSTART;TZID=America/Chicago:20220919T170000
DTEND;TZID=America/Chicago:20220919T200000
DTSTAMP:20260424T043247
CREATED:20220826T205516Z
LAST-MODIFIED:20220826T205516Z
UID:27663-1663606800-1663617600@connorsstate.edu
SUMMARY:Esports League Games
DESCRIPTION:
URL:https://connorsstate.edu/event/esports-league-games-6/
LOCATION:Esports Lab\, 700 College Road\, Warner\, OK\, 74469
ORGANIZER;CN="Christian Jones":MAILTO:cjones51@connorsstate.edu
END:VEVENT
BEGIN:VEVENT
DTSTART;TZID=America/Chicago:20220919T190000
DTEND;TZID=America/Chicago:20220919T210000
DTSTAMP:20260424T043247
CREATED:20220831T160222Z
LAST-MODIFIED:20220831T160222Z
UID:27762-1663614000-1663621200@connorsstate.edu
SUMMARY:Mandatory Housing Meeting/ Say No to Vape
DESCRIPTION:
URL:https://connorsstate.edu/event/mandatory-housing-meeting-say-no-to-vape/
LOCATION:Fine Arts Auditorium\, 700 College Rd\, Warner\, OK\, 74469\, United States
END:VEVENT
END:VCALENDAR