BEGIN:VCALENDAR
VERSION:2.0
PRODID:-//Connors State College - ECPv6.15.20//NONSGML v1.0//EN
CALSCALE:GREGORIAN
METHOD:PUBLISH
X-ORIGINAL-URL:https://connorsstate.edu
X-WR-CALDESC:Events for Connors State College
REFRESH-INTERVAL;VALUE=DURATION:PT1H
X-Robots-Tag:noindex
X-PUBLISHED-TTL:PT1H
BEGIN:VTIMEZONE
TZID:America/Chicago
BEGIN:DAYLIGHT
TZOFFSETFROM:-0600
TZOFFSETTO:-0500
TZNAME:CDT
DTSTART:20210314T080000
END:DAYLIGHT
BEGIN:STANDARD
TZOFFSETFROM:-0500
TZOFFSETTO:-0600
TZNAME:CST
DTSTART:20211107T070000
END:STANDARD
BEGIN:DAYLIGHT
TZOFFSETFROM:-0600
TZOFFSETTO:-0500
TZNAME:CDT
DTSTART:20220313T080000
END:DAYLIGHT
BEGIN:STANDARD
TZOFFSETFROM:-0500
TZOFFSETTO:-0600
TZNAME:CST
DTSTART:20221106T070000
END:STANDARD
BEGIN:DAYLIGHT
TZOFFSETFROM:-0600
TZOFFSETTO:-0500
TZNAME:CDT
DTSTART:20230312T080000
END:DAYLIGHT
BEGIN:STANDARD
TZOFFSETFROM:-0500
TZOFFSETTO:-0600
TZNAME:CST
DTSTART:20231105T070000
END:STANDARD
END:VTIMEZONE
BEGIN:VEVENT
DTSTART;TZID=America/Chicago:20220926T120000
DTEND;TZID=America/Chicago:20220926T150000
DTSTAMP:20260424T031930
CREATED:20220901T175132Z
LAST-MODIFIED:20220901T175912Z
UID:27831-1664193600-1664204400@connorsstate.edu
SUMMARY:CSC Baseball @ Oklahoma Wesleyan University
DESCRIPTION:Bartlesville\, OK
URL:https://connorsstate.edu/event/csc-baseball-vs-oklahoma-wesleyan-university/
LOCATION:OK
END:VEVENT
BEGIN:VEVENT
DTSTART;TZID=America/Chicago:20220926T170000
DTEND;TZID=America/Chicago:20220926T200000
DTSTAMP:20260424T031930
CREATED:20220826T205804Z
LAST-MODIFIED:20220826T205804Z
UID:27673-1664211600-1664222400@connorsstate.edu
SUMMARY:Esports League Games
DESCRIPTION:
URL:https://connorsstate.edu/event/esports-league-games-11/
LOCATION:Esports Lab\, 700 College Road\, Warner\, OK\, 74469
ORGANIZER;CN="Christian Jones":MAILTO:cjones51@connorsstate.edu
END:VEVENT
END:VCALENDAR