BEGIN:VCALENDAR
VERSION:2.0
PRODID:-//Connors State College - ECPv6.15.20//NONSGML v1.0//EN
CALSCALE:GREGORIAN
METHOD:PUBLISH
X-ORIGINAL-URL:https://connorsstate.edu
X-WR-CALDESC:Events for Connors State College
REFRESH-INTERVAL;VALUE=DURATION:PT1H
X-Robots-Tag:noindex
X-PUBLISHED-TTL:PT1H
BEGIN:VTIMEZONE
TZID:America/Chicago
BEGIN:DAYLIGHT
TZOFFSETFROM:-0600
TZOFFSETTO:-0500
TZNAME:CDT
DTSTART:20210314T080000
END:DAYLIGHT
BEGIN:STANDARD
TZOFFSETFROM:-0500
TZOFFSETTO:-0600
TZNAME:CST
DTSTART:20211107T070000
END:STANDARD
BEGIN:DAYLIGHT
TZOFFSETFROM:-0600
TZOFFSETTO:-0500
TZNAME:CDT
DTSTART:20220313T080000
END:DAYLIGHT
BEGIN:STANDARD
TZOFFSETFROM:-0500
TZOFFSETTO:-0600
TZNAME:CST
DTSTART:20221106T070000
END:STANDARD
BEGIN:DAYLIGHT
TZOFFSETFROM:-0600
TZOFFSETTO:-0500
TZNAME:CDT
DTSTART:20230312T080000
END:DAYLIGHT
BEGIN:STANDARD
TZOFFSETFROM:-0500
TZOFFSETTO:-0600
TZNAME:CST
DTSTART:20231105T070000
END:STANDARD
END:VTIMEZONE
BEGIN:VEVENT
DTSTART;TZID=America/Chicago:20221003T080000
DTEND;TZID=America/Chicago:20221003T163000
DTSTAMP:20260424T031932
CREATED:20220919T163050Z
LAST-MODIFIED:20220919T163050Z
UID:27917-1664784000-1664814600@connorsstate.edu
SUMMARY:CSC- Priority Enrollment- Veteran Students and Students with 55+ Credit Hours
DESCRIPTION:
URL:https://connorsstate.edu/event/csc-priority-enrollment-veteran-students-and-students-with-55-credit-hours/
LOCATION:Muskogee & Warner Campuses
END:VEVENT
BEGIN:VEVENT
DTSTART;TZID=America/Chicago:20221003T150000
DTEND;TZID=America/Chicago:20221003T180000
DTSTAMP:20260424T031932
CREATED:20220901T175419Z
LAST-MODIFIED:20220901T175419Z
UID:27837-1664809200-1664820000@connorsstate.edu
SUMMARY:CSC Baseball @ TCS Postgrad
DESCRIPTION:Melissa\, TX
URL:https://connorsstate.edu/event/csc-baseball-tcs-postgrad/
LOCATION:OK
END:VEVENT
END:VCALENDAR