BEGIN:VCALENDAR
VERSION:2.0
PRODID:-//Connors State College - ECPv6.15.20//NONSGML v1.0//EN
CALSCALE:GREGORIAN
METHOD:PUBLISH
X-WR-CALNAME:Connors State College
X-ORIGINAL-URL:https://connorsstate.edu
X-WR-CALDESC:Events for Connors State College
REFRESH-INTERVAL;VALUE=DURATION:PT1H
X-Robots-Tag:noindex
X-PUBLISHED-TTL:PT1H
BEGIN:VTIMEZONE
TZID:America/Chicago
BEGIN:DAYLIGHT
TZOFFSETFROM:-0600
TZOFFSETTO:-0500
TZNAME:CDT
DTSTART:20210314T080000
END:DAYLIGHT
BEGIN:STANDARD
TZOFFSETFROM:-0500
TZOFFSETTO:-0600
TZNAME:CST
DTSTART:20211107T070000
END:STANDARD
BEGIN:DAYLIGHT
TZOFFSETFROM:-0600
TZOFFSETTO:-0500
TZNAME:CDT
DTSTART:20220313T080000
END:DAYLIGHT
BEGIN:STANDARD
TZOFFSETFROM:-0500
TZOFFSETTO:-0600
TZNAME:CST
DTSTART:20221106T070000
END:STANDARD
BEGIN:DAYLIGHT
TZOFFSETFROM:-0600
TZOFFSETTO:-0500
TZNAME:CDT
DTSTART:20230312T080000
END:DAYLIGHT
BEGIN:STANDARD
TZOFFSETFROM:-0500
TZOFFSETTO:-0600
TZNAME:CST
DTSTART:20231105T070000
END:STANDARD
END:VTIMEZONE
BEGIN:VEVENT
DTSTART;TZID=America/Chicago:20221109T100000
DTEND;TZID=America/Chicago:20221109T133000
DTSTAMP:20260422T022003
CREATED:20220805T210918Z
LAST-MODIFIED:20220805T210918Z
UID:27334-1667988000-1668000600@connorsstate.edu
SUMMARY:CSC Blood Drive
DESCRIPTION:
URL:https://connorsstate.edu/event/csc-blood-drive-2/
LOCATION:Muskogee & Warner Campuses
END:VEVENT
BEGIN:VEVENT
DTSTART;TZID=America/Chicago:20221109T173000
DTEND;TZID=America/Chicago:20221109T190000
DTSTAMP:20260422T022003
CREATED:20220830T191215Z
LAST-MODIFIED:20220830T191215Z
UID:27713-1668015000-1668020400@connorsstate.edu
SUMMARY:CSC Women’s Basketball vs Shorter College
DESCRIPTION:
URL:https://connorsstate.edu/event/csc-womens-basketball-vs-shorter-college/
LOCATION:OK
END:VEVENT
BEGIN:VEVENT
DTSTART;TZID=America/Chicago:20221109T190000
DTEND;TZID=America/Chicago:20221109T203000
DTSTAMP:20260422T022003
CREATED:20220818T211142Z
LAST-MODIFIED:20220818T211142Z
UID:27529-1668020400-1668025800@connorsstate.edu
SUMMARY:CSC Men's Basketball vs Shorter College
DESCRIPTION:
URL:https://connorsstate.edu/event/csc-mens-basketball-vs-shorter-college/
LOCATION:Melvin Self Fieldhouse\, 700 College Rd\, Warner\, OK\, 74469\, United States
END:VEVENT
END:VCALENDAR