BEGIN:VCALENDAR
VERSION:2.0
PRODID:-//Connors State College - ECPv6.15.20//NONSGML v1.0//EN
CALSCALE:GREGORIAN
METHOD:PUBLISH
X-ORIGINAL-URL:https://connorsstate.edu
X-WR-CALDESC:Events for Connors State College
REFRESH-INTERVAL;VALUE=DURATION:PT1H
X-Robots-Tag:noindex
X-PUBLISHED-TTL:PT1H
BEGIN:VTIMEZONE
TZID:America/Chicago
BEGIN:DAYLIGHT
TZOFFSETFROM:-0600
TZOFFSETTO:-0500
TZNAME:CDT
DTSTART:20210314T080000
END:DAYLIGHT
BEGIN:STANDARD
TZOFFSETFROM:-0500
TZOFFSETTO:-0600
TZNAME:CST
DTSTART:20211107T070000
END:STANDARD
BEGIN:DAYLIGHT
TZOFFSETFROM:-0600
TZOFFSETTO:-0500
TZNAME:CDT
DTSTART:20220313T080000
END:DAYLIGHT
BEGIN:STANDARD
TZOFFSETFROM:-0500
TZOFFSETTO:-0600
TZNAME:CST
DTSTART:20221106T070000
END:STANDARD
BEGIN:DAYLIGHT
TZOFFSETFROM:-0600
TZOFFSETTO:-0500
TZNAME:CDT
DTSTART:20230312T080000
END:DAYLIGHT
BEGIN:STANDARD
TZOFFSETFROM:-0500
TZOFFSETTO:-0600
TZNAME:CST
DTSTART:20231105T070000
END:STANDARD
END:VTIMEZONE
BEGIN:VEVENT
DTSTART;VALUE=DATE:20221111
DTEND;VALUE=DATE:20221114
DTSTAMP:20260422T021958
CREATED:20220817T194008Z
LAST-MODIFIED:20220817T194008Z
UID:27478-1668124800-1668383999@connorsstate.edu
SUMMARY:CSC Shotgun Shooting Sports
DESCRIPTION:OPSU Aggie Shootout
URL:https://connorsstate.edu/event/csc-shotgun-shooting-sports-7/
LOCATION:OK
END:VEVENT
BEGIN:VEVENT
DTSTART;TZID=America/Chicago:20221112T130000
DTEND;TZID=America/Chicago:20221112T143000
DTSTAMP:20260422T021958
CREATED:20220830T192432Z
LAST-MODIFIED:20220830T192612Z
UID:27716-1668258000-1668263400@connorsstate.edu
SUMMARY:CSC Women’s Basketball @ Richland College
DESCRIPTION:Dallas\, TX
URL:https://connorsstate.edu/event/csc-womens-basketball-vs-richland-college/
LOCATION:OK
END:VEVENT
BEGIN:VEVENT
DTSTART;TZID=America/Chicago:20221112T160000
DTEND;TZID=America/Chicago:20221112T173000
DTSTAMP:20260422T021958
CREATED:20220819T164717Z
LAST-MODIFIED:20220819T164717Z
UID:27539-1668268800-1668274200@connorsstate.edu
SUMMARY:CSC Men's Basketball @ National Park College
DESCRIPTION:Hot Springs\, AR
URL:https://connorsstate.edu/event/csc-mens-basketball-national-park-college/
LOCATION:OK
END:VEVENT
END:VCALENDAR