BEGIN:VCALENDAR
VERSION:2.0
PRODID:-//Connors State College - ECPv6.15.20//NONSGML v1.0//EN
CALSCALE:GREGORIAN
METHOD:PUBLISH
X-WR-CALNAME:Connors State College
X-ORIGINAL-URL:https://connorsstate.edu
X-WR-CALDESC:Events for Connors State College
REFRESH-INTERVAL;VALUE=DURATION:PT1H
X-Robots-Tag:noindex
X-PUBLISHED-TTL:PT1H
BEGIN:VTIMEZONE
TZID:America/Chicago
BEGIN:DAYLIGHT
TZOFFSETFROM:-0600
TZOFFSETTO:-0500
TZNAME:CDT
DTSTART:20210314T080000
END:DAYLIGHT
BEGIN:STANDARD
TZOFFSETFROM:-0500
TZOFFSETTO:-0600
TZNAME:CST
DTSTART:20211107T070000
END:STANDARD
BEGIN:DAYLIGHT
TZOFFSETFROM:-0600
TZOFFSETTO:-0500
TZNAME:CDT
DTSTART:20220313T080000
END:DAYLIGHT
BEGIN:STANDARD
TZOFFSETFROM:-0500
TZOFFSETTO:-0600
TZNAME:CST
DTSTART:20221106T070000
END:STANDARD
BEGIN:DAYLIGHT
TZOFFSETFROM:-0600
TZOFFSETTO:-0500
TZNAME:CDT
DTSTART:20230312T080000
END:DAYLIGHT
BEGIN:STANDARD
TZOFFSETFROM:-0500
TZOFFSETTO:-0600
TZNAME:CST
DTSTART:20231105T070000
END:STANDARD
END:VTIMEZONE
BEGIN:VEVENT
DTSTART;TZID=America/Chicago:20221129T170000
DTEND;TZID=America/Chicago:20221129T183000
DTSTAMP:20260422T003611
CREATED:20220819T165857Z
LAST-MODIFIED:20220819T165857Z
UID:27551-1669741200-1669746600@connorsstate.edu
SUMMARY:CSC Men's Basketball @ Arkansas Tech
DESCRIPTION:Russellville\, AR
URL:https://connorsstate.edu/event/csc-mens-basketball-arkansas-tech/
LOCATION:OK
END:VEVENT
BEGIN:VEVENT
DTSTART;TZID=America/Chicago:20221129T180000
DTEND;TZID=America/Chicago:20221129T193000
DTSTAMP:20260422T003611
CREATED:20220830T193731Z
LAST-MODIFIED:20220830T193731Z
UID:27732-1669744800-1669750200@connorsstate.edu
SUMMARY:CSC Women’s Basketball @ Southwestern Christian JV
DESCRIPTION:Bethany\, OK
URL:https://connorsstate.edu/event/csc-womens-basketball-southwestern-christian-jv/
LOCATION:OK
END:VEVENT
END:VCALENDAR