BEGIN:VCALENDAR
VERSION:2.0
PRODID:-//Connors State College - ECPv6.15.20//NONSGML v1.0//EN
CALSCALE:GREGORIAN
METHOD:PUBLISH
X-ORIGINAL-URL:https://connorsstate.edu
X-WR-CALDESC:Events for Connors State College
REFRESH-INTERVAL;VALUE=DURATION:PT1H
X-Robots-Tag:noindex
X-PUBLISHED-TTL:PT1H
BEGIN:VTIMEZONE
TZID:America/Chicago
BEGIN:DAYLIGHT
TZOFFSETFROM:-0600
TZOFFSETTO:-0500
TZNAME:CDT
DTSTART:20210314T080000
END:DAYLIGHT
BEGIN:STANDARD
TZOFFSETFROM:-0500
TZOFFSETTO:-0600
TZNAME:CST
DTSTART:20211107T070000
END:STANDARD
BEGIN:DAYLIGHT
TZOFFSETFROM:-0600
TZOFFSETTO:-0500
TZNAME:CDT
DTSTART:20220313T080000
END:DAYLIGHT
BEGIN:STANDARD
TZOFFSETFROM:-0500
TZOFFSETTO:-0600
TZNAME:CST
DTSTART:20221106T070000
END:STANDARD
BEGIN:DAYLIGHT
TZOFFSETFROM:-0600
TZOFFSETTO:-0500
TZNAME:CDT
DTSTART:20230312T080000
END:DAYLIGHT
BEGIN:STANDARD
TZOFFSETFROM:-0500
TZOFFSETTO:-0600
TZNAME:CST
DTSTART:20231105T070000
END:STANDARD
END:VTIMEZONE
BEGIN:VEVENT
DTSTART;TZID=America/Chicago:20221201T120000
DTEND;TZID=America/Chicago:20221201T163000
DTSTAMP:20260422T003602
CREATED:20221116T200145Z
LAST-MODIFIED:20221116T200145Z
UID:28283-1669896000-1669912200@connorsstate.edu
SUMMARY:Fall Bull Test Sale
DESCRIPTION:BullTestSale_Dec1_Flyer BullTestSale_Fall22_OKcowman \nLUNCH @ NOON \nSALE @1 PM \n50+ PERFORMANCE TESTED BULLS- ALL BREEDS \nBREEDING SOUNDNESS EXAM- ULTRASOUND DATA AVAILABLE \nCONTACT- DR. RON RAMMING @ 918-869-7573 or MR. ROGER MORTON 918-557-4560 \nwww.connorsstate.edu/agri/bull-test \n 
URL:https://connorsstate.edu/event/fall-bull-test-sale-2/
LOCATION:Bull Test Barn\, 700 College Rd\, Warner\, OK\, 74469\, United States
END:VEVENT
BEGIN:VEVENT
DTSTART;TZID=America/Chicago:20221201T170000
DTEND;TZID=America/Chicago:20221201T183000
DTSTAMP:20260422T003602
CREATED:20220830T194121Z
LAST-MODIFIED:20220830T194121Z
UID:27734-1669914000-1669919400@connorsstate.edu
SUMMARY:CSC Women’s Basketball @ UA Cossatot
DESCRIPTION:DeQueen\, AR
URL:https://connorsstate.edu/event/csc-womens-basketball-ua-cossatot/
LOCATION:OK
END:VEVENT
BEGIN:VEVENT
DTSTART;TZID=America/Chicago:20221201T190000
DTEND;TZID=America/Chicago:20221201T200000
DTSTAMP:20260422T003602
CREATED:20220831T162047Z
LAST-MODIFIED:20220831T162047Z
UID:27778-1669921200-1669924800@connorsstate.edu
SUMMARY:Fall Student Concert
DESCRIPTION:
URL:https://connorsstate.edu/event/fall-student-concert/
LOCATION:Nero Fine Arts Auditorium\, 700 College Rd\, Warner\, OK\, 74469\, United States
END:VEVENT
BEGIN:VEVENT
DTSTART;TZID=America/Chicago:20221201T190000
DTEND;TZID=America/Chicago:20221201T203000
DTSTAMP:20260422T003602
CREATED:20220819T165947Z
LAST-MODIFIED:20220819T165947Z
UID:27553-1669921200-1669926600@connorsstate.edu
SUMMARY:CSC Men's Basketball vs National Park College
DESCRIPTION:
URL:https://connorsstate.edu/event/csc-mens-basketball-vs-national-park-college/
LOCATION:OK
END:VEVENT
END:VCALENDAR