BEGIN:VCALENDAR
VERSION:2.0
PRODID:-//Connors State College - ECPv6.15.20//NONSGML v1.0//EN
CALSCALE:GREGORIAN
METHOD:PUBLISH
X-ORIGINAL-URL:https://connorsstate.edu
X-WR-CALDESC:Events for Connors State College
REFRESH-INTERVAL;VALUE=DURATION:PT1H
X-Robots-Tag:noindex
X-PUBLISHED-TTL:PT1H
BEGIN:VTIMEZONE
TZID:America/Chicago
BEGIN:DAYLIGHT
TZOFFSETFROM:-0600
TZOFFSETTO:-0500
TZNAME:CDT
DTSTART:20210314T080000
END:DAYLIGHT
BEGIN:STANDARD
TZOFFSETFROM:-0500
TZOFFSETTO:-0600
TZNAME:CST
DTSTART:20211107T070000
END:STANDARD
BEGIN:DAYLIGHT
TZOFFSETFROM:-0600
TZOFFSETTO:-0500
TZNAME:CDT
DTSTART:20220313T080000
END:DAYLIGHT
BEGIN:STANDARD
TZOFFSETFROM:-0500
TZOFFSETTO:-0600
TZNAME:CST
DTSTART:20221106T070000
END:STANDARD
BEGIN:DAYLIGHT
TZOFFSETFROM:-0600
TZOFFSETTO:-0500
TZNAME:CDT
DTSTART:20230312T080000
END:DAYLIGHT
BEGIN:STANDARD
TZOFFSETFROM:-0500
TZOFFSETTO:-0600
TZNAME:CST
DTSTART:20231105T070000
END:STANDARD
END:VTIMEZONE
BEGIN:VEVENT
DTSTART;VALUE=DATE:20221205
DTEND;VALUE=DATE:20221210
DTSTAMP:20260422T003602
CREATED:20221116T181536Z
LAST-MODIFIED:20221116T181536Z
UID:28237-1670198400-1670630399@connorsstate.edu
SUMMARY:Finals Week
DESCRIPTION:
URL:https://connorsstate.edu/event/finals-week-5/
LOCATION:Both Campuses
END:VEVENT
BEGIN:VEVENT
DTSTART;TZID=America/Chicago:20221205T183000
DTEND;TZID=America/Chicago:20221205T200000
DTSTAMP:20260422T003602
CREATED:20220819T170204Z
LAST-MODIFIED:20220819T170204Z
UID:27557-1670265000-1670270400@connorsstate.edu
SUMMARY:CSC Men's Basketball vs South Arkansas CC
DESCRIPTION:
URL:https://connorsstate.edu/event/csc-mens-basketball-vs-south-arkansas-cc/
LOCATION:OK
END:VEVENT
END:VCALENDAR