BEGIN:VCALENDAR
VERSION:2.0
PRODID:-//Connors State College - ECPv6.15.20//NONSGML v1.0//EN
CALSCALE:GREGORIAN
METHOD:PUBLISH
X-WR-CALNAME:Connors State College
X-ORIGINAL-URL:https://connorsstate.edu
X-WR-CALDESC:Events for Connors State College
REFRESH-INTERVAL;VALUE=DURATION:PT1H
X-Robots-Tag:noindex
X-PUBLISHED-TTL:PT1H
BEGIN:VTIMEZONE
TZID:America/Chicago
BEGIN:DAYLIGHT
TZOFFSETFROM:-0600
TZOFFSETTO:-0500
TZNAME:CDT
DTSTART:20220313T080000
END:DAYLIGHT
BEGIN:STANDARD
TZOFFSETFROM:-0500
TZOFFSETTO:-0600
TZNAME:CST
DTSTART:20221106T070000
END:STANDARD
BEGIN:DAYLIGHT
TZOFFSETFROM:-0600
TZOFFSETTO:-0500
TZNAME:CDT
DTSTART:20230312T080000
END:DAYLIGHT
BEGIN:STANDARD
TZOFFSETFROM:-0500
TZOFFSETTO:-0600
TZNAME:CST
DTSTART:20231105T070000
END:STANDARD
BEGIN:DAYLIGHT
TZOFFSETFROM:-0600
TZOFFSETTO:-0500
TZNAME:CDT
DTSTART:20240310T080000
END:DAYLIGHT
BEGIN:STANDARD
TZOFFSETFROM:-0500
TZOFFSETTO:-0600
TZNAME:CST
DTSTART:20241103T070000
END:STANDARD
END:VTIMEZONE
BEGIN:VEVENT
DTSTART;VALUE=DATE:20230206
DTEND;VALUE=DATE:20230215
DTSTAMP:20260421T213605
CREATED:20230208T172934Z
LAST-MODIFIED:20230208T172934Z
UID:28670-1675641600-1676419199@connorsstate.edu
SUMMARY:CSC Library-Blind Date with a Book!
DESCRIPTION:Feb 6th-Feb. 14 at both Campus Libraries. \nWinner announced Feb. 15th
URL:https://connorsstate.edu/event/csc-library-blind-date-with-a-book/
LOCATION:CSC Library\, 700 College Road\, Warner\, OK\, 74469
ORGANIZER;CN="Ona Britton-Spears":MAILTO:ona.britton-spears@connorsstate.edu
END:VEVENT
BEGIN:VEVENT
DTSTART;TZID=America/Chicago:20230208T100000
DTEND;TZID=America/Chicago:20230208T133000
DTSTAMP:20260421T213605
CREATED:20220805T211013Z
LAST-MODIFIED:20220805T211013Z
UID:27336-1675850400-1675863000@connorsstate.edu
SUMMARY:CSC Blood Drive
DESCRIPTION:
URL:https://connorsstate.edu/event/csc-blood-drive-3/
LOCATION:Muskogee & Warner Campuses
END:VEVENT
BEGIN:VEVENT
DTSTART;TZID=America/Chicago:20230208T130000
DTEND;TZID=America/Chicago:20230208T170000
DTSTAMP:20260421T213605
CREATED:20221116T193510Z
LAST-MODIFIED:20221116T193510Z
UID:28265-1675861200-1675875600@connorsstate.edu
SUMMARY:CSC Baseball vs Arkansas Tech- DH
DESCRIPTION:
URL:https://connorsstate.edu/event/csc-baseball-vs-arkansas-tech-dh/
LOCATION:Biff Thompson Field at Perry Keith Park\, 700 College Rd\, Warner\, OK\, 74469\, United States
END:VEVENT
END:VCALENDAR