BEGIN:VCALENDAR
VERSION:2.0
PRODID:-//Connors State College - ECPv6.15.20//NONSGML v1.0//EN
CALSCALE:GREGORIAN
METHOD:PUBLISH
X-ORIGINAL-URL:https://connorsstate.edu
X-WR-CALDESC:Events for Connors State College
REFRESH-INTERVAL;VALUE=DURATION:PT1H
X-Robots-Tag:noindex
X-PUBLISHED-TTL:PT1H
BEGIN:VTIMEZONE
TZID:America/Chicago
BEGIN:DAYLIGHT
TZOFFSETFROM:-0600
TZOFFSETTO:-0500
TZNAME:CDT
DTSTART:20220313T080000
END:DAYLIGHT
BEGIN:STANDARD
TZOFFSETFROM:-0500
TZOFFSETTO:-0600
TZNAME:CST
DTSTART:20221106T070000
END:STANDARD
BEGIN:DAYLIGHT
TZOFFSETFROM:-0600
TZOFFSETTO:-0500
TZNAME:CDT
DTSTART:20230312T080000
END:DAYLIGHT
BEGIN:STANDARD
TZOFFSETFROM:-0500
TZOFFSETTO:-0600
TZNAME:CST
DTSTART:20231105T070000
END:STANDARD
BEGIN:DAYLIGHT
TZOFFSETFROM:-0600
TZOFFSETTO:-0500
TZNAME:CDT
DTSTART:20240310T080000
END:DAYLIGHT
BEGIN:STANDARD
TZOFFSETFROM:-0500
TZOFFSETTO:-0600
TZNAME:CST
DTSTART:20241103T070000
END:STANDARD
END:VTIMEZONE
BEGIN:VEVENT
DTSTART;VALUE=DATE:20230206
DTEND;VALUE=DATE:20230215
DTSTAMP:20260421T213648
CREATED:20230208T172934Z
LAST-MODIFIED:20230208T172934Z
UID:28670-1675641600-1676419199@connorsstate.edu
SUMMARY:CSC Library-Blind Date with a Book!
DESCRIPTION:Feb 6th-Feb. 14 at both Campus Libraries. \nWinner announced Feb. 15th
URL:https://connorsstate.edu/event/csc-library-blind-date-with-a-book/
LOCATION:CSC Library\, 700 College Road\, Warner\, OK\, 74469
ORGANIZER;CN="Ona Britton-Spears":MAILTO:ona.britton-spears@connorsstate.edu
END:VEVENT
BEGIN:VEVENT
DTSTART;VALUE=DATE:20230209
DTEND;VALUE=DATE:20230212
DTSTAMP:20260421T213648
CREATED:20230208T171951Z
LAST-MODIFIED:20230208T171951Z
UID:28668-1675900800-1676159999@connorsstate.edu
SUMMARY:CSC Show Team- Dixie National
DESCRIPTION:Jackson Mississippi
URL:https://connorsstate.edu/event/csc-show-team-dixie-national-2/
LOCATION:OK
ORGANIZER;CN="Stetson May":MAILTO:stetson.may@connorsstate.edu
END:VEVENT
BEGIN:VEVENT
DTSTART;TZID=America/Chicago:20230209T173000
DTEND;TZID=America/Chicago:20230209T190000
DTSTAMP:20260421T213648
CREATED:20220831T165037Z
LAST-MODIFIED:20220831T165037Z
UID:27804-1675963800-1675969200@connorsstate.edu
SUMMARY:CSC Women’s Basketball vs Redlands CC
DESCRIPTION:
URL:https://connorsstate.edu/event/csc-womens-basketball-vs-redlands-cc/
LOCATION:Melvin Self Fieldhouse\, 700 College Rd\, Warner\, OK\, 74469\, United States
END:VEVENT
BEGIN:VEVENT
DTSTART;TZID=America/Chicago:20230209T193000
DTEND;TZID=America/Chicago:20230209T210000
DTSTAMP:20260421T213648
CREATED:20220819T200614Z
LAST-MODIFIED:20220819T200614Z
UID:27579-1675971000-1675976400@connorsstate.edu
SUMMARY:CSC Men's Basketball vs Redlands CC
DESCRIPTION:
URL:https://connorsstate.edu/event/csc-mens-basketball-vs-redlands-cc/
LOCATION:OK
END:VEVENT
END:VCALENDAR