BEGIN:VCALENDAR
VERSION:2.0
PRODID:-//Connors State College - ECPv6.15.20//NONSGML v1.0//EN
CALSCALE:GREGORIAN
METHOD:PUBLISH
X-ORIGINAL-URL:https://connorsstate.edu
X-WR-CALDESC:Events for Connors State College
REFRESH-INTERVAL;VALUE=DURATION:PT1H
X-Robots-Tag:noindex
X-PUBLISHED-TTL:PT1H
BEGIN:VTIMEZONE
TZID:America/Chicago
BEGIN:DAYLIGHT
TZOFFSETFROM:-0600
TZOFFSETTO:-0500
TZNAME:CDT
DTSTART:20220313T080000
END:DAYLIGHT
BEGIN:STANDARD
TZOFFSETFROM:-0500
TZOFFSETTO:-0600
TZNAME:CST
DTSTART:20221106T070000
END:STANDARD
BEGIN:DAYLIGHT
TZOFFSETFROM:-0600
TZOFFSETTO:-0500
TZNAME:CDT
DTSTART:20230312T080000
END:DAYLIGHT
BEGIN:STANDARD
TZOFFSETFROM:-0500
TZOFFSETTO:-0600
TZNAME:CST
DTSTART:20231105T070000
END:STANDARD
BEGIN:DAYLIGHT
TZOFFSETFROM:-0600
TZOFFSETTO:-0500
TZNAME:CDT
DTSTART:20240310T080000
END:DAYLIGHT
BEGIN:STANDARD
TZOFFSETFROM:-0500
TZOFFSETTO:-0600
TZNAME:CST
DTSTART:20241103T070000
END:STANDARD
END:VTIMEZONE
BEGIN:VEVENT
DTSTART;VALUE=DATE:20230206
DTEND;VALUE=DATE:20230215
DTSTAMP:20260421T213649
CREATED:20230208T172934Z
LAST-MODIFIED:20230208T172934Z
UID:28670-1675641600-1676419199@connorsstate.edu
SUMMARY:CSC Library-Blind Date with a Book!
DESCRIPTION:Feb 6th-Feb. 14 at both Campus Libraries. \nWinner announced Feb. 15th
URL:https://connorsstate.edu/event/csc-library-blind-date-with-a-book/
LOCATION:CSC Library\, 700 College Road\, Warner\, OK\, 74469
ORGANIZER;CN="Ona Britton-Spears":MAILTO:ona.britton-spears@connorsstate.edu
END:VEVENT
BEGIN:VEVENT
DTSTART;TZID=America/Chicago:20230213T130000
DTEND;TZID=America/Chicago:20230213T150000
DTSTAMP:20260421T213649
CREATED:20221116T193746Z
LAST-MODIFIED:20221116T193746Z
UID:28269-1676293200-1676300400@connorsstate.edu
SUMMARY:CSC Baseball @ Carl Albert State College
DESCRIPTION:@ Poteau\, OK
URL:https://connorsstate.edu/event/csc-baseball-carl-albert-state-college-2/
LOCATION:OK
END:VEVENT
BEGIN:VEVENT
DTSTART;TZID=America/Chicago:20230213T173000
DTEND;TZID=America/Chicago:20230213T190000
DTSTAMP:20260421T213649
CREATED:20220831T165147Z
LAST-MODIFIED:20220831T165147Z
UID:27806-1676309400-1676314800@connorsstate.edu
SUMMARY:CSC Women’s Basketball @ Murray State College
DESCRIPTION:Tishomingo\, OK
URL:https://connorsstate.edu/event/csc-womens-basketball-murray-state-college/
LOCATION:OK
END:VEVENT
BEGIN:VEVENT
DTSTART;TZID=America/Chicago:20230213T193000
DTEND;TZID=America/Chicago:20230213T210000
DTSTAMP:20260421T213649
CREATED:20220819T200712Z
LAST-MODIFIED:20220819T200712Z
UID:27581-1676316600-1676322000@connorsstate.edu
SUMMARY:CSC Men's Basketball @ Murray State
DESCRIPTION:Tishomingo\, OK
URL:https://connorsstate.edu/event/csc-mens-basketball-murray-state/
LOCATION:OK
END:VEVENT
END:VCALENDAR