BEGIN:VCALENDAR
VERSION:2.0
PRODID:-//Connors State College - ECPv6.15.20//NONSGML v1.0//EN
CALSCALE:GREGORIAN
METHOD:PUBLISH
X-ORIGINAL-URL:https://connorsstate.edu
X-WR-CALDESC:Events for Connors State College
REFRESH-INTERVAL;VALUE=DURATION:PT1H
X-Robots-Tag:noindex
X-PUBLISHED-TTL:PT1H
BEGIN:VTIMEZONE
TZID:America/Chicago
BEGIN:DAYLIGHT
TZOFFSETFROM:-0600
TZOFFSETTO:-0500
TZNAME:CDT
DTSTART:20220313T080000
END:DAYLIGHT
BEGIN:STANDARD
TZOFFSETFROM:-0500
TZOFFSETTO:-0600
TZNAME:CST
DTSTART:20221106T070000
END:STANDARD
BEGIN:DAYLIGHT
TZOFFSETFROM:-0600
TZOFFSETTO:-0500
TZNAME:CDT
DTSTART:20230312T080000
END:DAYLIGHT
BEGIN:STANDARD
TZOFFSETFROM:-0500
TZOFFSETTO:-0600
TZNAME:CST
DTSTART:20231105T070000
END:STANDARD
BEGIN:DAYLIGHT
TZOFFSETFROM:-0600
TZOFFSETTO:-0500
TZNAME:CDT
DTSTART:20240310T080000
END:DAYLIGHT
BEGIN:STANDARD
TZOFFSETFROM:-0500
TZOFFSETTO:-0600
TZNAME:CST
DTSTART:20241103T070000
END:STANDARD
END:VTIMEZONE
BEGIN:VEVENT
DTSTART;VALUE=DATE:20230227
DTEND;VALUE=DATE:20230320
DTSTAMP:20260421T213648
CREATED:20230208T190427Z
LAST-MODIFIED:20230208T190427Z
UID:28679-1677456000-1679270399@connorsstate.edu
SUMMARY:CSC Library- eAudiobook Selfie Contest
DESCRIPTION:Feb 27th- Mar 19th \nWinner announced on March 20th
URL:https://connorsstate.edu/event/csc-library-eaudiobook-selfie-contest/
LOCATION:CSC Library\, 700 College Road\, Warner\, OK\, 74469
ORGANIZER;CN="Ona Britton-Spears":MAILTO:ona.britton-spears@connorsstate.edu
END:VEVENT
BEGIN:VEVENT
DTSTART;TZID=America/Chicago:20230302T140000
DTEND;TZID=America/Chicago:20230302T160000
DTSTAMP:20260421T213648
CREATED:20221116T194616Z
LAST-MODIFIED:20221116T194616Z
UID:28281-1677765600-1677772800@connorsstate.edu
SUMMARY:CSC Baseball @ Eastern State College
DESCRIPTION:@ Wilburton\, OK
URL:https://connorsstate.edu/event/csc-baseball-eastern-state-college/
LOCATION:OK
END:VEVENT
END:VCALENDAR