BEGIN:VCALENDAR
VERSION:2.0
PRODID:-//Connors State College - ECPv6.15.17.1//NONSGML v1.0//EN
CALSCALE:GREGORIAN
METHOD:PUBLISH
X-ORIGINAL-URL:https://connorsstate.edu
X-WR-CALDESC:Events for Connors State College
REFRESH-INTERVAL;VALUE=DURATION:PT1H
X-Robots-Tag:noindex
X-PUBLISHED-TTL:PT1H
BEGIN:VTIMEZONE
TZID:America/Chicago
BEGIN:DAYLIGHT
TZOFFSETFROM:-0600
TZOFFSETTO:-0500
TZNAME:CDT
DTSTART:20220313T080000
END:DAYLIGHT
BEGIN:STANDARD
TZOFFSETFROM:-0500
TZOFFSETTO:-0600
TZNAME:CST
DTSTART:20221106T070000
END:STANDARD
BEGIN:DAYLIGHT
TZOFFSETFROM:-0600
TZOFFSETTO:-0500
TZNAME:CDT
DTSTART:20230312T080000
END:DAYLIGHT
BEGIN:STANDARD
TZOFFSETFROM:-0500
TZOFFSETTO:-0600
TZNAME:CST
DTSTART:20231105T070000
END:STANDARD
BEGIN:DAYLIGHT
TZOFFSETFROM:-0600
TZOFFSETTO:-0500
TZNAME:CDT
DTSTART:20240310T080000
END:DAYLIGHT
BEGIN:STANDARD
TZOFFSETFROM:-0500
TZOFFSETTO:-0600
TZNAME:CST
DTSTART:20241103T070000
END:STANDARD
END:VTIMEZONE
BEGIN:VEVENT
DTSTART;VALUE=DATE:20230320
DTEND;VALUE=DATE:20230326
DTSTAMP:20260421T182214
CREATED:20220819T201420Z
LAST-MODIFIED:20220819T201737Z
UID:27595-1679270400-1679788799@connorsstate.edu
SUMMARY:CSC Men's Basketball NJCAA National Tournament
DESCRIPTION:Hutchinson\, KS
URL:https://connorsstate.edu/event/njcaa-national-tournament/
LOCATION:OK
END:VEVENT
BEGIN:VEVENT
DTSTART;VALUE=DATE:20230321
DTEND;VALUE=DATE:20230326
DTSTAMP:20260421T182214
CREATED:20230208T165002Z
LAST-MODIFIED:20230208T165002Z
UID:28652-1679356800-1679788799@connorsstate.edu
SUMMARY:Shotgun Shooting Sports- ACUI Nationals
DESCRIPTION:San Antionio\, TX
URL:https://connorsstate.edu/event/shotgun-shooting-sports-acui-nationals/
LOCATION:OK
END:VEVENT
BEGIN:VEVENT
DTSTART;VALUE=DATE:20230324
DTEND;VALUE=DATE:20230327
DTSTAMP:20260421T182214
CREATED:20220817T155041Z
LAST-MODIFIED:20220817T155041Z
UID:27441-1679616000-1679875199@connorsstate.edu
SUMMARY:CSC Archery- NFAA Indoor National Championship 2023
DESCRIPTION:
URL:https://connorsstate.edu/event/csc-archery-nfaa-indoor-national-championship-2023/
LOCATION:OK
ORGANIZER;CN="Coach Johnny King":MAILTO:john.king10@connorsstate.edu
END:VEVENT
BEGIN:VEVENT
DTSTART;TZID=America/Chicago:20230325T130000
DTEND;TZID=America/Chicago:20230325T170000
DTSTAMP:20260421T182214
CREATED:20221116T214544Z
LAST-MODIFIED:20221116T214544Z
UID:28303-1679749200-1679763600@connorsstate.edu
SUMMARY:CSC Baseball @ Seminole State College-DH
DESCRIPTION:@Seminole\, OK
URL:https://connorsstate.edu/event/csc-baseball-seminole-state-college-dh/
LOCATION:OK
END:VEVENT
END:VCALENDAR