BEGIN:VCALENDAR
VERSION:2.0
PRODID:-//Connors State College - ECPv6.15.17.1//NONSGML v1.0//EN
CALSCALE:GREGORIAN
METHOD:PUBLISH
X-ORIGINAL-URL:https://connorsstate.edu
X-WR-CALDESC:Events for Connors State College
REFRESH-INTERVAL;VALUE=DURATION:PT1H
X-Robots-Tag:noindex
X-PUBLISHED-TTL:PT1H
BEGIN:VTIMEZONE
TZID:America/Chicago
BEGIN:DAYLIGHT
TZOFFSETFROM:-0600
TZOFFSETTO:-0500
TZNAME:CDT
DTSTART:20220313T080000
END:DAYLIGHT
BEGIN:STANDARD
TZOFFSETFROM:-0500
TZOFFSETTO:-0600
TZNAME:CST
DTSTART:20221106T070000
END:STANDARD
BEGIN:DAYLIGHT
TZOFFSETFROM:-0600
TZOFFSETTO:-0500
TZNAME:CDT
DTSTART:20230312T080000
END:DAYLIGHT
BEGIN:STANDARD
TZOFFSETFROM:-0500
TZOFFSETTO:-0600
TZNAME:CST
DTSTART:20231105T070000
END:STANDARD
BEGIN:DAYLIGHT
TZOFFSETFROM:-0600
TZOFFSETTO:-0500
TZNAME:CDT
DTSTART:20240310T080000
END:DAYLIGHT
BEGIN:STANDARD
TZOFFSETFROM:-0500
TZOFFSETTO:-0600
TZNAME:CST
DTSTART:20241103T070000
END:STANDARD
END:VTIMEZONE
BEGIN:VEVENT
DTSTART;TZID=America/Chicago:20230425T100000
DTEND;TZID=America/Chicago:20230428T170000
DTSTAMP:20260421T170425
CREATED:20230410T193903Z
LAST-MODIFIED:20230410T193903Z
UID:29081-1682416800-1682701200@connorsstate.edu
SUMMARY:CSC Spring Plant Sale
DESCRIPTION:
URL:https://connorsstate.edu/event/csc-spring-plant-sale-2/
LOCATION:Green Houses\, 700 College Rd\, Warner\, OK\, 74469\, United States
END:VEVENT
BEGIN:VEVENT
DTSTART;VALUE=DATE:20230427
DTEND;VALUE=DATE:20230430
DTSTAMP:20260421T170425
CREATED:20230208T170815Z
LAST-MODIFIED:20230208T170815Z
UID:28664-1682553600-1682812799@connorsstate.edu
SUMMARY:CSC Rodeo Team- Panhandle State University
DESCRIPTION:Guymon\, OK
URL:https://connorsstate.edu/event/csc-rodeo-team-panhandle-state-university/
LOCATION:OK
ORGANIZER;CN="Coach Jake Walker":MAILTO:jake.walker@connorsstate.edu
END:VEVENT
END:VCALENDAR