BEGIN:VCALENDAR
VERSION:2.0
PRODID:-//Connors State College - ECPv6.15.20//NONSGML v1.0//EN
CALSCALE:GREGORIAN
METHOD:PUBLISH
X-WR-CALNAME:Connors State College
X-ORIGINAL-URL:https://connorsstate.edu
X-WR-CALDESC:Events for Connors State College
REFRESH-INTERVAL;VALUE=DURATION:PT1H
X-Robots-Tag:noindex
X-PUBLISHED-TTL:PT1H
BEGIN:VTIMEZONE
TZID:America/Chicago
BEGIN:DAYLIGHT
TZOFFSETFROM:-0600
TZOFFSETTO:-0500
TZNAME:CDT
DTSTART:20220313T080000
END:DAYLIGHT
BEGIN:STANDARD
TZOFFSETFROM:-0500
TZOFFSETTO:-0600
TZNAME:CST
DTSTART:20221106T070000
END:STANDARD
BEGIN:DAYLIGHT
TZOFFSETFROM:-0600
TZOFFSETTO:-0500
TZNAME:CDT
DTSTART:20230312T080000
END:DAYLIGHT
BEGIN:STANDARD
TZOFFSETFROM:-0500
TZOFFSETTO:-0600
TZNAME:CST
DTSTART:20231105T070000
END:STANDARD
BEGIN:DAYLIGHT
TZOFFSETFROM:-0600
TZOFFSETTO:-0500
TZNAME:CDT
DTSTART:20240310T080000
END:DAYLIGHT
BEGIN:STANDARD
TZOFFSETFROM:-0500
TZOFFSETTO:-0600
TZNAME:CST
DTSTART:20241103T070000
END:STANDARD
END:VTIMEZONE
BEGIN:VEVENT
DTSTART;VALUE=DATE:20230814
DTEND;VALUE=DATE:20230819
DTSTAMP:20260421T211529
CREATED:20230629T164146Z
LAST-MODIFIED:20230629T164146Z
UID:29645-1691971200-1692403199@connorsstate.edu
SUMMARY:MOVE IN WEEK- BY APPOINTMENT ONLY
DESCRIPTION:
URL:https://connorsstate.edu/event/move-in-week-by-appointment-only/
LOCATION:Millers Crossing Club House\, 700 College Rd\, Warner\, OK\, 74469\, United States
ORGANIZER;CN="Coach Korey Keith":MAILTO:koreywk@connorsstate.edu
END:VEVENT
BEGIN:VEVENT
DTSTART;TZID=America/Chicago:20230816T080000
DTEND;TZID=America/Chicago:20230816T163000
DTSTAMP:20260421T211529
CREATED:20230802T172052Z
LAST-MODIFIED:20230802T172128Z
UID:30201-1692172800-1692203400@connorsstate.edu
SUMMARY:2023 Fall Faculty and Staff In-Service
DESCRIPTION:
URL:https://connorsstate.edu/event/fall-faculty-and-staff-in-service/
LOCATION:LLC Auditorium\, 700 College Rd\, Warner\, OK\, 74469\, United States
ORGANIZER;CN="Dr. Chris McBeath":MAILTO:chris.mcbeath@connorsstate.edu
END:VEVENT
BEGIN:VEVENT
DTSTART;TZID=America/Chicago:20230816T150000
DTEND;TZID=America/Chicago:20230816T163000
DTSTAMP:20260421T211529
CREATED:20230802T134544Z
LAST-MODIFIED:20230802T134544Z
UID:30098-1692198000-1692203400@connorsstate.edu
SUMMARY:Cowgirl Soccer @ Oklahoma City (Preseason)
DESCRIPTION:OKC
URL:https://connorsstate.edu/event/cowgirl-soccer-oklahoma-city-preseason/
LOCATION:OK
ORGANIZER;CN="Coach Adam Skolnick":MAILTO:adam.skolnick@connorsstate.edu
END:VEVENT
BEGIN:VEVENT
DTSTART;TZID=America/Chicago:20230816T170000
DTEND;TZID=America/Chicago:20230816T183000
DTSTAMP:20260421T211529
CREATED:20230802T134714Z
LAST-MODIFIED:20230802T134714Z
UID:30100-1692205200-1692210600@connorsstate.edu
SUMMARY:Cowboy Soccer @ Oklahoma City (Preseason)
DESCRIPTION:OKC
URL:https://connorsstate.edu/event/cowboy-soccer-oklahoma-city-preseason/
LOCATION:OK
ORGANIZER;CN="Coach Adam Skolnick":MAILTO:adam.skolnick@connorsstate.edu
END:VEVENT
END:VCALENDAR