BEGIN:VCALENDAR
VERSION:2.0
PRODID:-//Connors State College - ECPv6.15.20//NONSGML v1.0//EN
CALSCALE:GREGORIAN
METHOD:PUBLISH
X-WR-CALNAME:Connors State College
X-ORIGINAL-URL:https://connorsstate.edu
X-WR-CALDESC:Events for Connors State College
REFRESH-INTERVAL;VALUE=DURATION:PT1H
X-Robots-Tag:noindex
X-PUBLISHED-TTL:PT1H
BEGIN:VTIMEZONE
TZID:America/Chicago
BEGIN:DAYLIGHT
TZOFFSETFROM:-0600
TZOFFSETTO:-0500
TZNAME:CDT
DTSTART:20220313T080000
END:DAYLIGHT
BEGIN:STANDARD
TZOFFSETFROM:-0500
TZOFFSETTO:-0600
TZNAME:CST
DTSTART:20221106T070000
END:STANDARD
BEGIN:DAYLIGHT
TZOFFSETFROM:-0600
TZOFFSETTO:-0500
TZNAME:CDT
DTSTART:20230312T080000
END:DAYLIGHT
BEGIN:STANDARD
TZOFFSETFROM:-0500
TZOFFSETTO:-0600
TZNAME:CST
DTSTART:20231105T070000
END:STANDARD
BEGIN:DAYLIGHT
TZOFFSETFROM:-0600
TZOFFSETTO:-0500
TZNAME:CDT
DTSTART:20240310T080000
END:DAYLIGHT
BEGIN:STANDARD
TZOFFSETFROM:-0500
TZOFFSETTO:-0600
TZNAME:CST
DTSTART:20241103T070000
END:STANDARD
END:VTIMEZONE
BEGIN:VEVENT
DTSTART;VALUE=DATE:20230821
DTEND;VALUE=DATE:20230822
DTSTAMP:20260421T211541
CREATED:20230501T204604Z
LAST-MODIFIED:20230501T204604Z
UID:29239-1692576000-1692662399@connorsstate.edu
SUMMARY:Fall Semester Begins
DESCRIPTION:
URL:https://connorsstate.edu/event/fall-semester-begins/
LOCATION:OK
END:VEVENT
BEGIN:VEVENT
DTSTART;VALUE=DATE:20230821
DTEND;VALUE=DATE:20230907
DTSTAMP:20260421T211541
CREATED:20230829T171854Z
LAST-MODIFIED:20230829T171854Z
UID:30483-1692576000-1694044799@connorsstate.edu
SUMMARY:Library Virtual Treasure Hunt
DESCRIPTION:Winner will be drawn on Sept 6.
URL:https://connorsstate.edu/event/library-virtual-treasure-hunt/
LOCATION:CSC Library\, 700 College Road\, Warner\, OK\, 74469
ORGANIZER;CN="Ona Britton-Spears":MAILTO:ona.britton-spears@connorsstate.edu
END:VEVENT
BEGIN:VEVENT
DTSTART;TZID=America/Chicago:20230821T083000
DTEND;TZID=America/Chicago:20230821T120000
DTSTAMP:20260421T211541
CREATED:20230629T164730Z
LAST-MODIFIED:20230629T164804Z
UID:29648-1692606600-1692619200@connorsstate.edu
SUMMARY:SPUR ENROLLMENT EVENT
DESCRIPTION:
URL:https://connorsstate.edu/event/spur-enrollment-event-4/
LOCATION:LLC Auditorium\, 700 College Rd\, Warner\, OK\, 74469\, United States
END:VEVENT
BEGIN:VEVENT
DTSTART;TZID=America/Chicago:20230821T190000
DTEND;TZID=America/Chicago:20230821T203000
DTSTAMP:20260421T211541
CREATED:20230802T174415Z
LAST-MODIFIED:20230802T174415Z
UID:30223-1692644400-1692649800@connorsstate.edu
SUMMARY:Student Activity- MANDATORY HOUSING MEETING
DESCRIPTION:
URL:https://connorsstate.edu/event/student-activity-mandatory-housing-meeting/
LOCATION:Fine Arts Auditorium\, 700 College Rd\, Warner\, OK\, 74469\, United States
END:VEVENT
END:VCALENDAR