BEGIN:VCALENDAR
VERSION:2.0
PRODID:-//Connors State College - ECPv6.15.17.1//NONSGML v1.0//EN
CALSCALE:GREGORIAN
METHOD:PUBLISH
X-WR-CALNAME:Connors State College
X-ORIGINAL-URL:https://connorsstate.edu
X-WR-CALDESC:Events for Connors State College
REFRESH-INTERVAL;VALUE=DURATION:PT1H
X-Robots-Tag:noindex
X-PUBLISHED-TTL:PT1H
BEGIN:VTIMEZONE
TZID:America/Chicago
BEGIN:DAYLIGHT
TZOFFSETFROM:-0600
TZOFFSETTO:-0500
TZNAME:CDT
DTSTART:20220313T080000
END:DAYLIGHT
BEGIN:STANDARD
TZOFFSETFROM:-0500
TZOFFSETTO:-0600
TZNAME:CST
DTSTART:20221106T070000
END:STANDARD
BEGIN:DAYLIGHT
TZOFFSETFROM:-0600
TZOFFSETTO:-0500
TZNAME:CDT
DTSTART:20230312T080000
END:DAYLIGHT
BEGIN:STANDARD
TZOFFSETFROM:-0500
TZOFFSETTO:-0600
TZNAME:CST
DTSTART:20231105T070000
END:STANDARD
BEGIN:DAYLIGHT
TZOFFSETFROM:-0600
TZOFFSETTO:-0500
TZNAME:CDT
DTSTART:20240310T080000
END:DAYLIGHT
BEGIN:STANDARD
TZOFFSETFROM:-0500
TZOFFSETTO:-0600
TZNAME:CST
DTSTART:20241103T070000
END:STANDARD
END:VTIMEZONE
BEGIN:VEVENT
DTSTART;VALUE=DATE:20230821
DTEND;VALUE=DATE:20230907
DTSTAMP:20260421T194127
CREATED:20230829T171854Z
LAST-MODIFIED:20230829T171854Z
UID:30483-1692576000-1694044799@connorsstate.edu
SUMMARY:Library Virtual Treasure Hunt
DESCRIPTION:Winner will be drawn on Sept 6.
URL:https://connorsstate.edu/event/library-virtual-treasure-hunt/
LOCATION:CSC Library\, 700 College Road\, Warner\, OK\, 74469
ORGANIZER;CN="Ona Britton-Spears":MAILTO:ona.britton-spears@connorsstate.edu
END:VEVENT
BEGIN:VEVENT
DTSTART;TZID=America/Chicago:20230830T100000
DTEND;TZID=America/Chicago:20230830T140000
DTSTAMP:20260421T194127
CREATED:20230802T175235Z
LAST-MODIFIED:20230802T175235Z
UID:30237-1693389600-1693404000@connorsstate.edu
SUMMARY:OBI Blood Drive
DESCRIPTION:
URL:https://connorsstate.edu/event/obi-blood-drive-4/
LOCATION:CSC Student Union\, 700 College Rd\, Warner\, OK\, 74469\, United States
ORGANIZER;CN="Christian Jones":MAILTO:cjones51@connorsstate.edu
END:VEVENT
BEGIN:VEVENT
DTSTART;TZID=America/Chicago:20230830T120000
DTEND;TZID=America/Chicago:20230830T140000
DTSTAMP:20260421T194127
CREATED:20230829T172259Z
LAST-MODIFIED:20230829T172259Z
UID:30487-1693396800-1693404000@connorsstate.edu
SUMMARY:Cricut/Canva T-Shirt Design Workshop
DESCRIPTION:
URL:https://connorsstate.edu/event/cricut-canva-t-shirt-design-workshop-2/
LOCATION:Muskogee Port Campus Library\, 2501 N. 41st Street East\, Muskogee\, OK\, 74403
ORGANIZER;CN="Ona Britton-Spears":MAILTO:ona.britton-spears@connorsstate.edu
END:VEVENT
BEGIN:VEVENT
DTSTART;TZID=America/Chicago:20230830T140000
DTEND;TZID=America/Chicago:20230830T153000
DTSTAMP:20260421T194127
CREATED:20230802T135759Z
LAST-MODIFIED:20230802T135759Z
UID:30111-1693404000-1693409400@connorsstate.edu
SUMMARY:Cowgirl Soccer @ Seminole
DESCRIPTION:Seminole\, OK
URL:https://connorsstate.edu/event/cowgirl-soccer-seminole/
LOCATION:OK
ORGANIZER;CN="Coach Adam Skolnick":MAILTO:adam.skolnick@connorsstate.edu
END:VEVENT
END:VCALENDAR