BEGIN:VCALENDAR
VERSION:2.0
PRODID:-//Connors State College - ECPv6.15.17.1//NONSGML v1.0//EN
CALSCALE:GREGORIAN
METHOD:PUBLISH
X-ORIGINAL-URL:https://connorsstate.edu
X-WR-CALDESC:Events for Connors State College
REFRESH-INTERVAL;VALUE=DURATION:PT1H
X-Robots-Tag:noindex
X-PUBLISHED-TTL:PT1H
BEGIN:VTIMEZONE
TZID:America/Chicago
BEGIN:DAYLIGHT
TZOFFSETFROM:-0600
TZOFFSETTO:-0500
TZNAME:CDT
DTSTART:20220313T080000
END:DAYLIGHT
BEGIN:STANDARD
TZOFFSETFROM:-0500
TZOFFSETTO:-0600
TZNAME:CST
DTSTART:20221106T070000
END:STANDARD
BEGIN:DAYLIGHT
TZOFFSETFROM:-0600
TZOFFSETTO:-0500
TZNAME:CDT
DTSTART:20230312T080000
END:DAYLIGHT
BEGIN:STANDARD
TZOFFSETFROM:-0500
TZOFFSETTO:-0600
TZNAME:CST
DTSTART:20231105T070000
END:STANDARD
BEGIN:DAYLIGHT
TZOFFSETFROM:-0600
TZOFFSETTO:-0500
TZNAME:CDT
DTSTART:20240310T080000
END:DAYLIGHT
BEGIN:STANDARD
TZOFFSETFROM:-0500
TZOFFSETTO:-0600
TZNAME:CST
DTSTART:20241103T070000
END:STANDARD
END:VTIMEZONE
BEGIN:VEVENT
DTSTART;VALUE=DATE:20230821
DTEND;VALUE=DATE:20230907
DTSTAMP:20260421T194418
CREATED:20230829T171854Z
LAST-MODIFIED:20230829T171854Z
UID:30483-1692576000-1694044799@connorsstate.edu
SUMMARY:Library Virtual Treasure Hunt
DESCRIPTION:Winner will be drawn on Sept 6.
URL:https://connorsstate.edu/event/library-virtual-treasure-hunt/
LOCATION:CSC Library\, 700 College Road\, Warner\, OK\, 74469
ORGANIZER;CN="Ona Britton-Spears":MAILTO:ona.britton-spears@connorsstate.edu
END:VEVENT
BEGIN:VEVENT
DTSTART;TZID=America/Chicago:20230901T080000
DTEND;TZID=America/Chicago:20230901T163000
DTSTAMP:20260421T194418
CREATED:20230829T151536Z
LAST-MODIFIED:20230829T151536Z
UID:30456-1693555200-1693585800@connorsstate.edu
SUMMARY:Last day to enroll or add classes for the 2023 fall semester.
DESCRIPTION:
URL:https://connorsstate.edu/event/last-day-to-enroll-or-add-classes-for-the-2023-fall-semester/
LOCATION:Muskogee & Warner Campuses
ORGANIZER;CN="Dr. Chris McBeath":MAILTO:chris.mcbeath@connorsstate.edu
END:VEVENT
BEGIN:VEVENT
DTSTART;TZID=America/Chicago:20230901T080000
DTEND;TZID=America/Chicago:20230901T163000
DTSTAMP:20260421T194418
CREATED:20230829T153423Z
LAST-MODIFIED:20230829T153423Z
UID:30458-1693555200-1693585800@connorsstate.edu
SUMMARY:Last day to drop a course without a transcript record and receive a 100% refund for 2023 fall semester
DESCRIPTION:
URL:https://connorsstate.edu/event/last-day-to-drop-a-course-without-a-transcript-record-and-receive-a-100-refund-for-2023-fall-semester/
LOCATION:Muskogee & Warner Campuses
ORGANIZER;CN="Dr. Chris McBeath":MAILTO:chris.mcbeath@connorsstate.edu
END:VEVENT
BEGIN:VEVENT
DTSTART;TZID=America/Chicago:20230901T080000
DTEND;TZID=America/Chicago:20230901T163000
DTSTAMP:20260421T194418
CREATED:20230829T153551Z
LAST-MODIFIED:20230829T153551Z
UID:30462-1693555200-1693585800@connorsstate.edu
SUMMARY:Last day to withdraw completely from the college and receive a 100% refund for 2023 fall semester
DESCRIPTION:
URL:https://connorsstate.edu/event/last-day-to-withdraw-completely-from-the-college-and-receive-a-100-refund-for-2023-fall-semester/
LOCATION:Muskogee & Warner Campuses
ORGANIZER;CN="Dr. Chris McBeath":MAILTO:chris.mcbeath@connorsstate.edu
END:VEVENT
END:VCALENDAR