BEGIN:VCALENDAR
VERSION:2.0
PRODID:-//Connors State College - ECPv6.15.17.1//NONSGML v1.0//EN
CALSCALE:GREGORIAN
METHOD:PUBLISH
X-WR-CALNAME:Connors State College
X-ORIGINAL-URL:https://connorsstate.edu
X-WR-CALDESC:Events for Connors State College
REFRESH-INTERVAL;VALUE=DURATION:PT1H
X-Robots-Tag:noindex
X-PUBLISHED-TTL:PT1H
BEGIN:VTIMEZONE
TZID:America/Chicago
BEGIN:DAYLIGHT
TZOFFSETFROM:-0600
TZOFFSETTO:-0500
TZNAME:CDT
DTSTART:20220313T080000
END:DAYLIGHT
BEGIN:STANDARD
TZOFFSETFROM:-0500
TZOFFSETTO:-0600
TZNAME:CST
DTSTART:20221106T070000
END:STANDARD
BEGIN:DAYLIGHT
TZOFFSETFROM:-0600
TZOFFSETTO:-0500
TZNAME:CDT
DTSTART:20230312T080000
END:DAYLIGHT
BEGIN:STANDARD
TZOFFSETFROM:-0500
TZOFFSETTO:-0600
TZNAME:CST
DTSTART:20231105T070000
END:STANDARD
BEGIN:DAYLIGHT
TZOFFSETFROM:-0600
TZOFFSETTO:-0500
TZNAME:CDT
DTSTART:20240310T080000
END:DAYLIGHT
BEGIN:STANDARD
TZOFFSETFROM:-0500
TZOFFSETTO:-0600
TZNAME:CST
DTSTART:20241103T070000
END:STANDARD
END:VTIMEZONE
BEGIN:VEVENT
DTSTART;TZID=America/Chicago:20230912T120000
DTEND;TZID=America/Chicago:20230912T143000
DTSTAMP:20260421T194245
CREATED:20230829T181912Z
LAST-MODIFIED:20230829T181912Z
UID:30526-1694520000-1694529000@connorsstate.edu
SUMMARY:CSC Baseball @ Murray State College
DESCRIPTION:Tishomingo\, OK
URL:https://connorsstate.edu/event/csc-baseball-murray-state-college/
LOCATION:OK
END:VEVENT
BEGIN:VEVENT
DTSTART;TZID=America/Chicago:20230912T140000
DTEND;TZID=America/Chicago:20230912T153000
DTSTAMP:20260421T194245
CREATED:20230802T140948Z
LAST-MODIFIED:20230802T140948Z
UID:30124-1694527200-1694532600@connorsstate.edu
SUMMARY:Cowgirl Soccer @ Crowder College (Non- Conference)
DESCRIPTION:
URL:https://connorsstate.edu/event/cowgirl-soccer-crowder-college-non-conference/
LOCATION:OK
ORGANIZER;CN="Coach Adam Skolnick":MAILTO:adam.skolnick@connorsstate.edu
END:VEVENT
BEGIN:VEVENT
DTSTART;TZID=America/Chicago:20230912T160000
DTEND;TZID=America/Chicago:20230912T173000
DTSTAMP:20260421T194245
CREATED:20230802T141020Z
LAST-MODIFIED:20230802T141025Z
UID:30126-1694534400-1694539800@connorsstate.edu
SUMMARY:Cowboy Soccer @ Crowder College (Non-Conference)
DESCRIPTION:
URL:https://connorsstate.edu/event/cowboy-soccer-crowder-college-non-conference/
LOCATION:OK
ORGANIZER;CN="Coach Adam Skolnick":MAILTO:adam.skolnick@connorsstate.edu
END:VEVENT
BEGIN:VEVENT
DTSTART;TZID=America/Chicago:20230912T180000
DTEND;TZID=America/Chicago:20230912T200000
DTSTAMP:20260421T194245
CREATED:20230802T175801Z
LAST-MODIFIED:20230802T175801Z
UID:30244-1694541600-1694548800@connorsstate.edu
SUMMARY:Student Activity- BINGO NIGHT
DESCRIPTION:
URL:https://connorsstate.edu/event/student-activity-bingo-night/
LOCATION:CSC Student Union\, 700 College Rd\, Warner\, OK\, 74469\, United States
ORGANIZER;CN="Christian Jones":MAILTO:cjones51@connorsstate.edu
END:VEVENT
END:VCALENDAR