BEGIN:VCALENDAR
VERSION:2.0
PRODID:-//Connors State College - ECPv6.15.17.1//NONSGML v1.0//EN
CALSCALE:GREGORIAN
METHOD:PUBLISH
X-ORIGINAL-URL:https://connorsstate.edu
X-WR-CALDESC:Events for Connors State College
REFRESH-INTERVAL;VALUE=DURATION:PT1H
X-Robots-Tag:noindex
X-PUBLISHED-TTL:PT1H
BEGIN:VTIMEZONE
TZID:America/Chicago
BEGIN:DAYLIGHT
TZOFFSETFROM:-0600
TZOFFSETTO:-0500
TZNAME:CDT
DTSTART:20220313T080000
END:DAYLIGHT
BEGIN:STANDARD
TZOFFSETFROM:-0500
TZOFFSETTO:-0600
TZNAME:CST
DTSTART:20221106T070000
END:STANDARD
BEGIN:DAYLIGHT
TZOFFSETFROM:-0600
TZOFFSETTO:-0500
TZNAME:CDT
DTSTART:20230312T080000
END:DAYLIGHT
BEGIN:STANDARD
TZOFFSETFROM:-0500
TZOFFSETTO:-0600
TZNAME:CST
DTSTART:20231105T070000
END:STANDARD
BEGIN:DAYLIGHT
TZOFFSETFROM:-0600
TZOFFSETTO:-0500
TZNAME:CDT
DTSTART:20240310T080000
END:DAYLIGHT
BEGIN:STANDARD
TZOFFSETFROM:-0500
TZOFFSETTO:-0600
TZNAME:CST
DTSTART:20241103T070000
END:STANDARD
END:VTIMEZONE
BEGIN:VEVENT
DTSTART;VALUE=DATE:20230921
DTEND;VALUE=DATE:20230925
DTSTAMP:20260421T194342
CREATED:20230801T203418Z
LAST-MODIFIED:20230801T203418Z
UID:30081-1695254400-1695599999@connorsstate.edu
SUMMARY:USA Archery Regional 3D Championship
DESCRIPTION:
URL:https://connorsstate.edu/event/usa-archery-regional-3d-championship/
LOCATION:OK
ORGANIZER;CN="Coach Johnny King":MAILTO:john.king10@connorsstate.edu
END:VEVENT
BEGIN:VEVENT
DTSTART;TZID=America/Chicago:20230922T080000
DTEND;TZID=America/Chicago:20230922T160000
DTSTAMP:20260421T194342
CREATED:20230829T170414Z
LAST-MODIFIED:20230829T170414Z
UID:30473-1695369600-1695398400@connorsstate.edu
SUMMARY:Last day to withdraw from a single 1st 8 week course with a grade of "W" (no refund) for 2023 fall semester
DESCRIPTION:
URL:https://connorsstate.edu/event/last-day-to-withdraw-from-a-single-1st-8-week-course-with-a-grade-of-w-no-refund-for-2023-fall-semester/
LOCATION:Muskogee & Warner Campuses
ORGANIZER;CN="Dr. Chris McBeath":MAILTO:chris.mcbeath@connorsstate.edu
END:VEVENT
END:VCALENDAR