BEGIN:VCALENDAR
VERSION:2.0
PRODID:-//Connors State College - ECPv6.15.17.1//NONSGML v1.0//EN
CALSCALE:GREGORIAN
METHOD:PUBLISH
X-ORIGINAL-URL:https://connorsstate.edu
X-WR-CALDESC:Events for Connors State College
REFRESH-INTERVAL;VALUE=DURATION:PT1H
X-Robots-Tag:noindex
X-PUBLISHED-TTL:PT1H
BEGIN:VTIMEZONE
TZID:America/Chicago
BEGIN:DAYLIGHT
TZOFFSETFROM:-0600
TZOFFSETTO:-0500
TZNAME:CDT
DTSTART:20220313T080000
END:DAYLIGHT
BEGIN:STANDARD
TZOFFSETFROM:-0500
TZOFFSETTO:-0600
TZNAME:CST
DTSTART:20221106T070000
END:STANDARD
BEGIN:DAYLIGHT
TZOFFSETFROM:-0600
TZOFFSETTO:-0500
TZNAME:CDT
DTSTART:20230312T080000
END:DAYLIGHT
BEGIN:STANDARD
TZOFFSETFROM:-0500
TZOFFSETTO:-0600
TZNAME:CST
DTSTART:20231105T070000
END:STANDARD
BEGIN:DAYLIGHT
TZOFFSETFROM:-0600
TZOFFSETTO:-0500
TZNAME:CDT
DTSTART:20240310T080000
END:DAYLIGHT
BEGIN:STANDARD
TZOFFSETFROM:-0500
TZOFFSETTO:-0600
TZNAME:CST
DTSTART:20241103T070000
END:STANDARD
END:VTIMEZONE
BEGIN:VEVENT
DTSTART;VALUE=DATE:20230921
DTEND;VALUE=DATE:20230925
DTSTAMP:20260421T194418
CREATED:20230801T203418Z
LAST-MODIFIED:20230801T203418Z
UID:30081-1695254400-1695599999@connorsstate.edu
SUMMARY:USA Archery Regional 3D Championship
DESCRIPTION:
URL:https://connorsstate.edu/event/usa-archery-regional-3d-championship/
LOCATION:OK
ORGANIZER;CN="Coach Johnny King":MAILTO:john.king10@connorsstate.edu
END:VEVENT
BEGIN:VEVENT
DTSTART;TZID=America/Chicago:20230923T150000
DTEND;TZID=America/Chicago:20230923T183000
DTSTAMP:20260421T194418
CREATED:20230629T170818Z
LAST-MODIFIED:20230629T170818Z
UID:29658-1695481200-1695493800@connorsstate.edu
SUMMARY:SHOW TEAM- Oklahoma State Fair- Gert Cattle Show
DESCRIPTION:OKC
URL:https://connorsstate.edu/event/show-team-oklahoma-state-fair-gert-cattle-show/
LOCATION:OK
ORGANIZER;CN="Stetson May":MAILTO:stetson.may@connorsstate.edu
END:VEVENT
BEGIN:VEVENT
DTSTART;TZID=America/Chicago:20230923T180000
DTEND;TZID=America/Chicago:20230923T200000
DTSTAMP:20260421T194418
CREATED:20230907T210721Z
LAST-MODIFIED:20230907T210721Z
UID:30605-1695492000-1695499200@connorsstate.edu
SUMMARY:Aggie Club- Halloween/Fall Festival
DESCRIPTION:
URL:https://connorsstate.edu/event/aggie-club-halloween-fall-festival/
LOCATION:Harding South Ranch
END:VEVENT
END:VCALENDAR