BEGIN:VCALENDAR
VERSION:2.0
PRODID:-//Connors State College - ECPv6.15.17.1//NONSGML v1.0//EN
CALSCALE:GREGORIAN
METHOD:PUBLISH
X-WR-CALNAME:Connors State College
X-ORIGINAL-URL:https://connorsstate.edu
X-WR-CALDESC:Events for Connors State College
REFRESH-INTERVAL;VALUE=DURATION:PT1H
X-Robots-Tag:noindex
X-PUBLISHED-TTL:PT1H
BEGIN:VTIMEZONE
TZID:America/Chicago
BEGIN:DAYLIGHT
TZOFFSETFROM:-0600
TZOFFSETTO:-0500
TZNAME:CDT
DTSTART:20220313T080000
END:DAYLIGHT
BEGIN:STANDARD
TZOFFSETFROM:-0500
TZOFFSETTO:-0600
TZNAME:CST
DTSTART:20221106T070000
END:STANDARD
BEGIN:DAYLIGHT
TZOFFSETFROM:-0600
TZOFFSETTO:-0500
TZNAME:CDT
DTSTART:20230312T080000
END:DAYLIGHT
BEGIN:STANDARD
TZOFFSETFROM:-0500
TZOFFSETTO:-0600
TZNAME:CST
DTSTART:20231105T070000
END:STANDARD
BEGIN:DAYLIGHT
TZOFFSETFROM:-0600
TZOFFSETTO:-0500
TZNAME:CDT
DTSTART:20240310T080000
END:DAYLIGHT
BEGIN:STANDARD
TZOFFSETFROM:-0500
TZOFFSETTO:-0600
TZNAME:CST
DTSTART:20241103T070000
END:STANDARD
END:VTIMEZONE
BEGIN:VEVENT
DTSTART;VALUE=DATE:20230928
DTEND;VALUE=DATE:20231002
DTSTAMP:20260421T182014
CREATED:20230711T145830Z
LAST-MODIFIED:20230711T145830Z
UID:29787-1695859200-1696204799@connorsstate.edu
SUMMARY:CSC Shotgun Shooting Sports
DESCRIPTION:7 State Prairie Circuit Conference Championship (North Platte\, NE)
URL:https://connorsstate.edu/event/csc-shotgun-shooting-sports-12/
LOCATION:OK
END:VEVENT
BEGIN:VEVENT
DTSTART;VALUE=DATE:20231001
DTEND;VALUE=DATE:20231002
DTSTAMP:20260421T182014
CREATED:20230629T171324Z
LAST-MODIFIED:20230629T171516Z
UID:29662-1696118400-1696204799@connorsstate.edu
SUMMARY:SHOW TEAM- Tulsa State Fair-Simmental Cattle- Show
DESCRIPTION:Tulsa\, Ford Arena 1
URL:https://connorsstate.edu/event/show-team-simmental-cattle-show/
LOCATION:OK
ORGANIZER;CN="Stetson May":MAILTO:stetson.may@connorsstate.edu
END:VEVENT
BEGIN:VEVENT
DTSTART;VALUE=DATE:20231001
DTEND;VALUE=DATE:20231008
DTSTAMP:20260421T182014
CREATED:20230829T174359Z
LAST-MODIFIED:20230829T174359Z
UID:30498-1696118400-1696723199@connorsstate.edu
SUMMARY:Banned Books Week
DESCRIPTION:Check out a banned book & get registered for a prize!
URL:https://connorsstate.edu/event/banned-books-week/
LOCATION:CSC Library\, 700 College Road\, Warner\, OK\, 74469
ORGANIZER;CN="Ona Britton-Spears":MAILTO:ona.britton-spears@connorsstate.edu
END:VEVENT
BEGIN:VEVENT
DTSTART;TZID=America/Chicago:20231001T130000
DTEND;TZID=America/Chicago:20231001T143000
DTSTAMP:20260421T182014
CREATED:20230802T142329Z
LAST-MODIFIED:20230802T142329Z
UID:30145-1696165200-1696170600@connorsstate.edu
SUMMARY:Cowgirl Soccer vs Seminole
DESCRIPTION:
URL:https://connorsstate.edu/event/cowgirl-soccer-vs-seminole/
LOCATION:Love-Hatbox Sports Complex- Soccer Field\, 504 S Hatbox Rd.\, Muskogee\, OK\, 74401\, United States
ORGANIZER;CN="Coach Adam Skolnick":MAILTO:adam.skolnick@connorsstate.edu
END:VEVENT
END:VCALENDAR