BEGIN:VCALENDAR
VERSION:2.0
PRODID:-//Connors State College - ECPv6.15.17.1//NONSGML v1.0//EN
CALSCALE:GREGORIAN
METHOD:PUBLISH
X-ORIGINAL-URL:https://connorsstate.edu
X-WR-CALDESC:Events for Connors State College
REFRESH-INTERVAL;VALUE=DURATION:PT1H
X-Robots-Tag:noindex
X-PUBLISHED-TTL:PT1H
BEGIN:VTIMEZONE
TZID:America/Chicago
BEGIN:DAYLIGHT
TZOFFSETFROM:-0600
TZOFFSETTO:-0500
TZNAME:CDT
DTSTART:20220313T080000
END:DAYLIGHT
BEGIN:STANDARD
TZOFFSETFROM:-0500
TZOFFSETTO:-0600
TZNAME:CST
DTSTART:20221106T070000
END:STANDARD
BEGIN:DAYLIGHT
TZOFFSETFROM:-0600
TZOFFSETTO:-0500
TZNAME:CDT
DTSTART:20230312T080000
END:DAYLIGHT
BEGIN:STANDARD
TZOFFSETFROM:-0500
TZOFFSETTO:-0600
TZNAME:CST
DTSTART:20231105T070000
END:STANDARD
BEGIN:DAYLIGHT
TZOFFSETFROM:-0600
TZOFFSETTO:-0500
TZNAME:CDT
DTSTART:20240310T080000
END:DAYLIGHT
BEGIN:STANDARD
TZOFFSETFROM:-0500
TZOFFSETTO:-0600
TZNAME:CST
DTSTART:20241103T070000
END:STANDARD
END:VTIMEZONE
BEGIN:VEVENT
DTSTART;VALUE=DATE:20231001
DTEND;VALUE=DATE:20231008
DTSTAMP:20260421T182215
CREATED:20230829T174359Z
LAST-MODIFIED:20230829T174359Z
UID:30498-1696118400-1696723199@connorsstate.edu
SUMMARY:Banned Books Week
DESCRIPTION:Check out a banned book & get registered for a prize!
URL:https://connorsstate.edu/event/banned-books-week/
LOCATION:CSC Library\, 700 College Road\, Warner\, OK\, 74469
ORGANIZER;CN="Ona Britton-Spears":MAILTO:ona.britton-spears@connorsstate.edu
END:VEVENT
BEGIN:VEVENT
DTSTART;TZID=America/Chicago:20231003T090000
DTEND;TZID=America/Chicago:20231003T130000
DTSTAMP:20260421T182215
CREATED:20230725T205836Z
LAST-MODIFIED:20230725T205948Z
UID:29935-1696323600-1696338000@connorsstate.edu
SUMMARY:Counselor Round Up
DESCRIPTION:
URL:https://connorsstate.edu/event/counselor-round-up/
LOCATION:CSC Student Union\, 700 College Rd\, Warner\, OK\, 74469\, United States
END:VEVENT
BEGIN:VEVENT
DTSTART;TZID=America/Chicago:20231003T130000
DTEND;TZID=America/Chicago:20231003T143000
DTSTAMP:20260421T182215
CREATED:20230802T142444Z
LAST-MODIFIED:20230802T142444Z
UID:30147-1696338000-1696343400@connorsstate.edu
SUMMARY:Cowgirl Soccer vs Murray State
DESCRIPTION:
URL:https://connorsstate.edu/event/cowgirl-soccer-vs-murray-state/
LOCATION:Love-Hatbox Sports Complex- Soccer Field\, 504 S Hatbox Rd.\, Muskogee\, OK\, 74401\, United States
ORGANIZER;CN="Coach Adam Skolnick":MAILTO:adam.skolnick@connorsstate.edu
END:VEVENT
BEGIN:VEVENT
DTSTART;TZID=America/Chicago:20231003T140000
DTEND;TZID=America/Chicago:20231003T180000
DTSTAMP:20260421T182215
CREATED:20230907T194811Z
LAST-MODIFIED:20230907T194811Z
UID:30591-1696341600-1696356000@connorsstate.edu
SUMMARY:Cowgirl Softball @ OK Wesleyan- DH
DESCRIPTION:Bartlesville\, OK
URL:https://connorsstate.edu/event/cowgirl-softball/
LOCATION:OK
ORGANIZER;CN="Coach Bobby Foreman":MAILTO:fbobby@connorsstate.edu
END:VEVENT
BEGIN:VEVENT
DTSTART;TZID=America/Chicago:20231003T150000
DTEND;TZID=America/Chicago:20231003T163000
DTSTAMP:20260421T182215
CREATED:20230802T142624Z
LAST-MODIFIED:20230802T142624Z
UID:30149-1696345200-1696350600@connorsstate.edu
SUMMARY:Cowboy Soccer vs Murray State
DESCRIPTION:
URL:https://connorsstate.edu/event/cowboy-soccer-vs-murray-state/
LOCATION:Love-Hatbox Sports Complex- Soccer Field\, 504 S Hatbox Rd.\, Muskogee\, OK\, 74401\, United States
ORGANIZER;CN="Coach Adam Skolnick":MAILTO:adam.skolnick@connorsstate.edu
END:VEVENT
END:VCALENDAR