BEGIN:VCALENDAR
VERSION:2.0
PRODID:-//Connors State College - ECPv6.15.17.1//NONSGML v1.0//EN
CALSCALE:GREGORIAN
METHOD:PUBLISH
X-ORIGINAL-URL:https://connorsstate.edu
X-WR-CALDESC:Events for Connors State College
REFRESH-INTERVAL;VALUE=DURATION:PT1H
X-Robots-Tag:noindex
X-PUBLISHED-TTL:PT1H
BEGIN:VTIMEZONE
TZID:America/Chicago
BEGIN:DAYLIGHT
TZOFFSETFROM:-0600
TZOFFSETTO:-0500
TZNAME:CDT
DTSTART:20220313T080000
END:DAYLIGHT
BEGIN:STANDARD
TZOFFSETFROM:-0500
TZOFFSETTO:-0600
TZNAME:CST
DTSTART:20221106T070000
END:STANDARD
BEGIN:DAYLIGHT
TZOFFSETFROM:-0600
TZOFFSETTO:-0500
TZNAME:CDT
DTSTART:20230312T080000
END:DAYLIGHT
BEGIN:STANDARD
TZOFFSETFROM:-0500
TZOFFSETTO:-0600
TZNAME:CST
DTSTART:20231105T070000
END:STANDARD
BEGIN:DAYLIGHT
TZOFFSETFROM:-0600
TZOFFSETTO:-0500
TZNAME:CDT
DTSTART:20240310T080000
END:DAYLIGHT
BEGIN:STANDARD
TZOFFSETFROM:-0500
TZOFFSETTO:-0600
TZNAME:CST
DTSTART:20241103T070000
END:STANDARD
END:VTIMEZONE
BEGIN:VEVENT
DTSTART;VALUE=DATE:20231005
DTEND;VALUE=DATE:20231009
DTSTAMP:20260421T182143
CREATED:20230801T204121Z
LAST-MODIFIED:20230801T204121Z
UID:30087-1696464000-1696809599@connorsstate.edu
SUMMARY:USA Archery National 3D Championship
DESCRIPTION:
URL:https://connorsstate.edu/event/usa-archery-national-3d-championship-2/
LOCATION:OK
ORGANIZER;CN="Coach Johnny King":MAILTO:john.king10@connorsstate.edu
END:VEVENT
BEGIN:VEVENT
DTSTART;VALUE=DATE:20231008
DTEND;VALUE=DATE:20231009
DTSTAMP:20260421T182143
CREATED:20230629T174739Z
LAST-MODIFIED:20230629T174739Z
UID:29671-1696723200-1696809599@connorsstate.edu
SUMMARY:Cowgirl Basketball - Coffeyville Jamboree
DESCRIPTION:Coffeyville\, KS \nTime : TBA
URL:https://connorsstate.edu/event/cowgirl-basketball-coffeyville-jamboree/
LOCATION:OK
END:VEVENT
BEGIN:VEVENT
DTSTART;TZID=America/Chicago:20231008T130000
DTEND;TZID=America/Chicago:20231008T143000
DTSTAMP:20260421T182143
CREATED:20230802T142922Z
LAST-MODIFIED:20230802T142922Z
UID:30153-1696770000-1696775400@connorsstate.edu
SUMMARY:Cowgirl Soccer vs Eastern
DESCRIPTION:
URL:https://connorsstate.edu/event/cowgirl-soccer-vs-eastern/
LOCATION:Love-Hatbox Sports Complex- Soccer Field\, 504 S Hatbox Rd.\, Muskogee\, OK\, 74401\, United States
ORGANIZER;CN="Coach Adam Skolnick":MAILTO:adam.skolnick@connorsstate.edu
END:VEVENT
BEGIN:VEVENT
DTSTART;TZID=America/Chicago:20231008T150000
DTEND;TZID=America/Chicago:20231008T163000
DTSTAMP:20260421T182143
CREATED:20230802T143028Z
LAST-MODIFIED:20230802T143028Z
UID:30155-1696777200-1696782600@connorsstate.edu
SUMMARY:Cowboy Soccer vs Eastern
DESCRIPTION:
URL:https://connorsstate.edu/event/cowboy-soccer-vs-eastern/
LOCATION:Love-Hatbox Sports Complex- Soccer Field\, 504 S Hatbox Rd.\, Muskogee\, OK\, 74401\, United States
ORGANIZER;CN="Coach Adam Skolnick":MAILTO:adam.skolnick@connorsstate.edu
END:VEVENT
END:VCALENDAR