BEGIN:VCALENDAR
VERSION:2.0
PRODID:-//Connors State College - ECPv6.15.17.1//NONSGML v1.0//EN
CALSCALE:GREGORIAN
METHOD:PUBLISH
X-ORIGINAL-URL:https://connorsstate.edu
X-WR-CALDESC:Events for Connors State College
REFRESH-INTERVAL;VALUE=DURATION:PT1H
X-Robots-Tag:noindex
X-PUBLISHED-TTL:PT1H
BEGIN:VTIMEZONE
TZID:America/Chicago
BEGIN:DAYLIGHT
TZOFFSETFROM:-0600
TZOFFSETTO:-0500
TZNAME:CDT
DTSTART:20220313T080000
END:DAYLIGHT
BEGIN:STANDARD
TZOFFSETFROM:-0500
TZOFFSETTO:-0600
TZNAME:CST
DTSTART:20221106T070000
END:STANDARD
BEGIN:DAYLIGHT
TZOFFSETFROM:-0600
TZOFFSETTO:-0500
TZNAME:CDT
DTSTART:20230312T080000
END:DAYLIGHT
BEGIN:STANDARD
TZOFFSETFROM:-0500
TZOFFSETTO:-0600
TZNAME:CST
DTSTART:20231105T070000
END:STANDARD
BEGIN:DAYLIGHT
TZOFFSETFROM:-0600
TZOFFSETTO:-0500
TZNAME:CDT
DTSTART:20240310T080000
END:DAYLIGHT
BEGIN:STANDARD
TZOFFSETFROM:-0500
TZOFFSETTO:-0600
TZNAME:CST
DTSTART:20241103T070000
END:STANDARD
END:VTIMEZONE
BEGIN:VEVENT
DTSTART;VALUE=DATE:20231012
DTEND;VALUE=DATE:20231013
DTSTAMP:20260421T182214
CREATED:20230711T154224Z
LAST-MODIFIED:20230711T154224Z
UID:29814-1697068800-1697155199@connorsstate.edu
SUMMARY:Livestock Judging Contest
DESCRIPTION:Cimarron Contest\, Stillwater\, OK
URL:https://connorsstate.edu/event/livestock-judging-contest-6/
LOCATION:OK
ORGANIZER;CN="Daniel Lujan":MAILTO:daniel.lujan@connorsstate.edu
END:VEVENT
BEGIN:VEVENT
DTSTART;VALUE=DATE:20231012
DTEND;VALUE=DATE:20231016
DTSTAMP:20260421T182214
CREATED:20230801T203615Z
LAST-MODIFIED:20230801T203615Z
UID:30083-1697068800-1697414399@connorsstate.edu
SUMMARY:USA Archery National 3D Championship
DESCRIPTION:
URL:https://connorsstate.edu/event/usa-archery-national-3d-championship/
LOCATION:OK
ORGANIZER;CN="Coach Johnny King":MAILTO:john.king10@connorsstate.edu
END:VEVENT
BEGIN:VEVENT
DTSTART;TZID=America/Chicago:20231012T130000
DTEND;TZID=America/Chicago:20231012T143000
DTSTAMP:20260421T182214
CREATED:20230802T143206Z
LAST-MODIFIED:20230802T143206Z
UID:30157-1697115600-1697121000@connorsstate.edu
SUMMARY:Cowgirl Soccer vs University of Arkansas Cossatot (Non-Conference)
DESCRIPTION:
URL:https://connorsstate.edu/event/cowgirl-soccer-vs-university-of-arkansas-cossatot-non-conference/
LOCATION:Love-Hatbox Sports Complex- Soccer Field\, 504 S Hatbox Rd.\, Muskogee\, OK\, 74401\, United States
ORGANIZER;CN="Coach Adam Skolnick":MAILTO:adam.skolnick@connorsstate.edu
END:VEVENT
BEGIN:VEVENT
DTSTART;TZID=America/Chicago:20231012T130000
DTEND;TZID=America/Chicago:20231012T143000
DTSTAMP:20260421T182214
CREATED:20230829T183120Z
LAST-MODIFIED:20230829T183120Z
UID:30546-1697115600-1697121000@connorsstate.edu
SUMMARY:CSC Baseball @ Oklahoma Christian University
DESCRIPTION:Edmond\, OK
URL:https://connorsstate.edu/event/csc-baseball-oklahoma-christian-university-2/
LOCATION:OK
END:VEVENT
BEGIN:VEVENT
DTSTART;TZID=America/Chicago:20231012T150000
DTEND;TZID=America/Chicago:20231012T163000
DTSTAMP:20260421T182214
CREATED:20230802T143314Z
LAST-MODIFIED:20230802T143314Z
UID:30159-1697122800-1697128200@connorsstate.edu
SUMMARY:Cowboy Soccer vs University of Arkansas Cossatot (Non-Conference)
DESCRIPTION:
URL:https://connorsstate.edu/event/cowboy-soccer-vs-university-of-arkansas-cossatot-non-conference/
LOCATION:Love-Hatbox Sports Complex- Soccer Field\, 504 S Hatbox Rd.\, Muskogee\, OK\, 74401\, United States
ORGANIZER;CN="Coach Adam Skolnick":MAILTO:adam.skolnick@connorsstate.edu
END:VEVENT
END:VCALENDAR