BEGIN:VCALENDAR
VERSION:2.0
PRODID:-//Connors State College - ECPv6.15.17.1//NONSGML v1.0//EN
CALSCALE:GREGORIAN
METHOD:PUBLISH
X-WR-CALNAME:Connors State College
X-ORIGINAL-URL:https://connorsstate.edu
X-WR-CALDESC:Events for Connors State College
REFRESH-INTERVAL;VALUE=DURATION:PT1H
X-Robots-Tag:noindex
X-PUBLISHED-TTL:PT1H
BEGIN:VTIMEZONE
TZID:America/Chicago
BEGIN:DAYLIGHT
TZOFFSETFROM:-0600
TZOFFSETTO:-0500
TZNAME:CDT
DTSTART:20220313T080000
END:DAYLIGHT
BEGIN:STANDARD
TZOFFSETFROM:-0500
TZOFFSETTO:-0600
TZNAME:CST
DTSTART:20221106T070000
END:STANDARD
BEGIN:DAYLIGHT
TZOFFSETFROM:-0600
TZOFFSETTO:-0500
TZNAME:CDT
DTSTART:20230312T080000
END:DAYLIGHT
BEGIN:STANDARD
TZOFFSETFROM:-0500
TZOFFSETTO:-0600
TZNAME:CST
DTSTART:20231105T070000
END:STANDARD
BEGIN:DAYLIGHT
TZOFFSETFROM:-0600
TZOFFSETTO:-0500
TZNAME:CDT
DTSTART:20240310T080000
END:DAYLIGHT
BEGIN:STANDARD
TZOFFSETFROM:-0500
TZOFFSETTO:-0600
TZNAME:CST
DTSTART:20241103T070000
END:STANDARD
END:VTIMEZONE
BEGIN:VEVENT
DTSTART;VALUE=DATE:20231012
DTEND;VALUE=DATE:20231016
DTSTAMP:20260421T182014
CREATED:20230801T203615Z
LAST-MODIFIED:20230801T203615Z
UID:30083-1697068800-1697414399@connorsstate.edu
SUMMARY:USA Archery National 3D Championship
DESCRIPTION:
URL:https://connorsstate.edu/event/usa-archery-national-3d-championship/
LOCATION:OK
ORGANIZER;CN="Coach Johnny King":MAILTO:john.king10@connorsstate.edu
END:VEVENT
BEGIN:VEVENT
DTSTART;VALUE=DATE:20231013
DTEND;VALUE=DATE:20231016
DTSTAMP:20260421T182014
CREATED:20230711T145925Z
LAST-MODIFIED:20230829T175746Z
UID:29789-1697155200-1697414399@connorsstate.edu
SUMMARY:CSC Shotgun Shooting Sports
DESCRIPTION:ACUI Fall Central MW Conference Championship (Sparta\, IL)
URL:https://connorsstate.edu/event/csc-shotgun-shooting-sports-13/
LOCATION:OK
END:VEVENT
BEGIN:VEVENT
DTSTART;VALUE=DATE:20231015
DTEND;VALUE=DATE:20231016
DTSTAMP:20260421T182014
CREATED:20230711T154516Z
LAST-MODIFIED:20230711T154516Z
UID:29816-1697328000-1697414399@connorsstate.edu
SUMMARY:Livestock Judging Contest  **Final Date for Fall 2023 Eligibility Forms**
DESCRIPTION:American Royal Coaches Meeting
URL:https://connorsstate.edu/event/livestock-judging-contest-final-date-for-fall-2023-eligibility-forms/
LOCATION:OK
ORGANIZER;CN="Daniel Lujan":MAILTO:daniel.lujan@connorsstate.edu
END:VEVENT
BEGIN:VEVENT
DTSTART;TZID=America/Chicago:20231015T150000
DTEND;TZID=America/Chicago:20231015T163000
DTSTAMP:20260421T182014
CREATED:20230802T143844Z
LAST-MODIFIED:20230802T143844Z
UID:30161-1697382000-1697387400@connorsstate.edu
SUMMARY:Cowgirl Soccer @ NEO
DESCRIPTION:Miami\, OK
URL:https://connorsstate.edu/event/cowgirl-soccer-neo/
LOCATION:OK
ORGANIZER;CN="Coach Adam Skolnick":MAILTO:adam.skolnick@connorsstate.edu
END:VEVENT
BEGIN:VEVENT
DTSTART;TZID=America/Chicago:20231015T170000
DTEND;TZID=America/Chicago:20231015T183000
DTSTAMP:20260421T182014
CREATED:20230802T143922Z
LAST-MODIFIED:20230802T143922Z
UID:30163-1697389200-1697394600@connorsstate.edu
SUMMARY:Cowboy Soccer @ NEO
DESCRIPTION:
URL:https://connorsstate.edu/event/cowboy-soccer-neo/
LOCATION:OK
ORGANIZER;CN="Coach Adam Skolnick":MAILTO:adam.skolnick@connorsstate.edu
END:VEVENT
END:VCALENDAR