BEGIN:VCALENDAR
VERSION:2.0
PRODID:-//Connors State College - ECPv6.15.17.1//NONSGML v1.0//EN
CALSCALE:GREGORIAN
METHOD:PUBLISH
X-WR-CALNAME:Connors State College
X-ORIGINAL-URL:https://connorsstate.edu
X-WR-CALDESC:Events for Connors State College
REFRESH-INTERVAL;VALUE=DURATION:PT1H
X-Robots-Tag:noindex
X-PUBLISHED-TTL:PT1H
BEGIN:VTIMEZONE
TZID:America/Chicago
BEGIN:DAYLIGHT
TZOFFSETFROM:-0600
TZOFFSETTO:-0500
TZNAME:CDT
DTSTART:20220313T080000
END:DAYLIGHT
BEGIN:STANDARD
TZOFFSETFROM:-0500
TZOFFSETTO:-0600
TZNAME:CST
DTSTART:20221106T070000
END:STANDARD
BEGIN:DAYLIGHT
TZOFFSETFROM:-0600
TZOFFSETTO:-0500
TZNAME:CDT
DTSTART:20230312T080000
END:DAYLIGHT
BEGIN:STANDARD
TZOFFSETFROM:-0500
TZOFFSETTO:-0600
TZNAME:CST
DTSTART:20231105T070000
END:STANDARD
BEGIN:DAYLIGHT
TZOFFSETFROM:-0600
TZOFFSETTO:-0500
TZNAME:CDT
DTSTART:20240310T080000
END:DAYLIGHT
BEGIN:STANDARD
TZOFFSETFROM:-0500
TZOFFSETTO:-0600
TZNAME:CST
DTSTART:20241103T070000
END:STANDARD
END:VTIMEZONE
BEGIN:VEVENT
DTSTART;VALUE=DATE:20231026
DTEND;VALUE=DATE:20231029
DTSTAMP:20260421T182014
CREATED:20230802T150241Z
LAST-MODIFIED:20230802T150241Z
UID:30180-1698278400-1698537599@connorsstate.edu
SUMMARY:CSC Rodeo Team @ NWOSU
DESCRIPTION:Alva\, OK
URL:https://connorsstate.edu/event/csc-rodeo-team-nwosu/
LOCATION:OK
ORGANIZER;CN="Coach Jake Walker":MAILTO:jake.walker@connorsstate.edu
END:VEVENT
BEGIN:VEVENT
DTSTART;VALUE=DATE:20231027
DTEND;VALUE=DATE:20231030
DTSTAMP:20260421T182014
CREATED:20230711T150157Z
LAST-MODIFIED:20230829T175850Z
UID:29791-1698364800-1698623999@connorsstate.edu
SUMMARY:CSC Shotgun Shooting Sports
DESCRIPTION:ACUI Midwest Super Shoot (Grand Island\, NE)
URL:https://connorsstate.edu/event/csc-shotgun-shooting-sports-14/
LOCATION:OK
END:VEVENT
BEGIN:VEVENT
DTSTART;TZID=America/Chicago:20231027T150000
DTEND;TZID=America/Chicago:20231027T170000
DTSTAMP:20260421T182014
CREATED:20230907T195133Z
LAST-MODIFIED:20230907T195133Z
UID:30596-1698418800-1698426000@connorsstate.edu
SUMMARY:Cowgirl Softball @ Arkansas Tech
DESCRIPTION:Russellville\, AR
URL:https://connorsstate.edu/event/cowgirl-softball-arkansas-tech/
LOCATION:OK
ORGANIZER;CN="Coach Bobby Foreman":MAILTO:fbobby@connorsstate.edu
END:VEVENT
END:VCALENDAR