BEGIN:VCALENDAR
VERSION:2.0
PRODID:-//Connors State College - ECPv6.15.17.1//NONSGML v1.0//EN
CALSCALE:GREGORIAN
METHOD:PUBLISH
X-ORIGINAL-URL:https://connorsstate.edu
X-WR-CALDESC:Events for Connors State College
REFRESH-INTERVAL;VALUE=DURATION:PT1H
X-Robots-Tag:noindex
X-PUBLISHED-TTL:PT1H
BEGIN:VTIMEZONE
TZID:America/Chicago
BEGIN:DAYLIGHT
TZOFFSETFROM:-0600
TZOFFSETTO:-0500
TZNAME:CDT
DTSTART:20220313T080000
END:DAYLIGHT
BEGIN:STANDARD
TZOFFSETFROM:-0500
TZOFFSETTO:-0600
TZNAME:CST
DTSTART:20221106T070000
END:STANDARD
BEGIN:DAYLIGHT
TZOFFSETFROM:-0600
TZOFFSETTO:-0500
TZNAME:CDT
DTSTART:20230312T080000
END:DAYLIGHT
BEGIN:STANDARD
TZOFFSETFROM:-0500
TZOFFSETTO:-0600
TZNAME:CST
DTSTART:20231105T070000
END:STANDARD
BEGIN:DAYLIGHT
TZOFFSETFROM:-0600
TZOFFSETTO:-0500
TZNAME:CDT
DTSTART:20240310T080000
END:DAYLIGHT
BEGIN:STANDARD
TZOFFSETFROM:-0500
TZOFFSETTO:-0600
TZNAME:CST
DTSTART:20241103T070000
END:STANDARD
END:VTIMEZONE
BEGIN:VEVENT
DTSTART;VALUE=DATE:20231030
DTEND;VALUE=DATE:20231114
DTSTAMP:20260421T170426
CREATED:20230829T174749Z
LAST-MODIFIED:20230829T174749Z
UID:30508-1698624000-1699919999@connorsstate.edu
SUMMARY:Thanksgiving Coloring Contest
DESCRIPTION:
URL:https://connorsstate.edu/event/thanksgiving-coloring-contest/
LOCATION:CSC Library\, 700 College Road\, Warner\, OK\, 74469
ORGANIZER;CN="Ona Britton-Spears":MAILTO:ona.britton-spears@connorsstate.edu
END:VEVENT
BEGIN:VEVENT
DTSTART;TZID=America/Chicago:20231108T150000
DTEND;TZID=America/Chicago:20231108T170000
DTSTAMP:20260421T170426
CREATED:20230829T174702Z
LAST-MODIFIED:20230829T174702Z
UID:30506-1699455600-1699462800@connorsstate.edu
SUMMARY:NASA Beading Workshop
DESCRIPTION:
URL:https://connorsstate.edu/event/nasa-beading-workshop-2/
LOCATION:Muskogee Port Campus Library\, 2501 N. 41st Street East\, Muskogee\, OK\, 74403
ORGANIZER;CN="Ona Britton-Spears":MAILTO:ona.britton-spears@connorsstate.edu
END:VEVENT
BEGIN:VEVENT
DTSTART;TZID=America/Chicago:20231108T190000
DTEND;TZID=America/Chicago:20231108T203000
DTSTAMP:20260421T170426
CREATED:20230731T210637Z
LAST-MODIFIED:20230801T201640Z
UID:30004-1699470000-1699475400@connorsstate.edu
SUMMARY:Independence CC @ Cowboy Basketball
DESCRIPTION:Independence\, KS
URL:https://connorsstate.edu/event/independence-cc-vs-cowboy-basketball/
LOCATION:OK
END:VEVENT
END:VCALENDAR