BEGIN:VCALENDAR
VERSION:2.0
PRODID:-//Connors State College - ECPv6.15.17.1//NONSGML v1.0//EN
CALSCALE:GREGORIAN
METHOD:PUBLISH
X-ORIGINAL-URL:https://connorsstate.edu
X-WR-CALDESC:Events for Connors State College
REFRESH-INTERVAL;VALUE=DURATION:PT1H
X-Robots-Tag:noindex
X-PUBLISHED-TTL:PT1H
BEGIN:VTIMEZONE
TZID:America/Chicago
BEGIN:DAYLIGHT
TZOFFSETFROM:-0600
TZOFFSETTO:-0500
TZNAME:CDT
DTSTART:20220313T080000
END:DAYLIGHT
BEGIN:STANDARD
TZOFFSETFROM:-0500
TZOFFSETTO:-0600
TZNAME:CST
DTSTART:20221106T070000
END:STANDARD
BEGIN:DAYLIGHT
TZOFFSETFROM:-0600
TZOFFSETTO:-0500
TZNAME:CDT
DTSTART:20230312T080000
END:DAYLIGHT
BEGIN:STANDARD
TZOFFSETFROM:-0500
TZOFFSETTO:-0600
TZNAME:CST
DTSTART:20231105T070000
END:STANDARD
BEGIN:DAYLIGHT
TZOFFSETFROM:-0600
TZOFFSETTO:-0500
TZNAME:CDT
DTSTART:20240310T080000
END:DAYLIGHT
BEGIN:STANDARD
TZOFFSETFROM:-0500
TZOFFSETTO:-0600
TZNAME:CST
DTSTART:20241103T070000
END:STANDARD
END:VTIMEZONE
BEGIN:VEVENT
DTSTART;VALUE=DATE:20231030
DTEND;VALUE=DATE:20231114
DTSTAMP:20260421T170423
CREATED:20230829T174749Z
LAST-MODIFIED:20230829T174749Z
UID:30508-1698624000-1699919999@connorsstate.edu
SUMMARY:Thanksgiving Coloring Contest
DESCRIPTION:
URL:https://connorsstate.edu/event/thanksgiving-coloring-contest/
LOCATION:CSC Library\, 700 College Road\, Warner\, OK\, 74469
ORGANIZER;CN="Ona Britton-Spears":MAILTO:ona.britton-spears@connorsstate.edu
END:VEVENT
BEGIN:VEVENT
DTSTART;VALUE=DATE:20231113
DTEND;VALUE=DATE:20231114
DTSTAMP:20260421T170423
CREATED:20230711T154839Z
LAST-MODIFIED:20230711T154839Z
UID:29820-1699833600-1699919999@connorsstate.edu
SUMMARY:Livestock Judging Contest (Tentatively)
DESCRIPTION:NAILE – Louisville\, KY
URL:https://connorsstate.edu/event/livestock-judging-contest-tentatively/
LOCATION:OK
ORGANIZER;CN="Daniel Lujan":MAILTO:daniel.lujan@connorsstate.edu
END:VEVENT
BEGIN:VEVENT
DTSTART;TZID=America/Chicago:20231113T190000
DTEND;TZID=America/Chicago:20231113T203000
DTSTAMP:20260421T170423
CREATED:20230731T210830Z
LAST-MODIFIED:20230731T210830Z
UID:30006-1699902000-1699907400@connorsstate.edu
SUMMARY:Cowboy Basketball vs Southwestern Christian
DESCRIPTION:
URL:https://connorsstate.edu/event/cowboy-basketball-vs-southwestern-christian-2/
LOCATION:OK
END:VEVENT
END:VCALENDAR