BEGIN:VCALENDAR
VERSION:2.0
PRODID:-//Connors State College - ECPv6.15.17.1//NONSGML v1.0//EN
CALSCALE:GREGORIAN
METHOD:PUBLISH
X-WR-CALNAME:Connors State College
X-ORIGINAL-URL:https://connorsstate.edu
X-WR-CALDESC:Events for Connors State College
REFRESH-INTERVAL;VALUE=DURATION:PT1H
X-Robots-Tag:noindex
X-PUBLISHED-TTL:PT1H
BEGIN:VTIMEZONE
TZID:America/Chicago
BEGIN:DAYLIGHT
TZOFFSETFROM:-0600
TZOFFSETTO:-0500
TZNAME:CDT
DTSTART:20220313T080000
END:DAYLIGHT
BEGIN:STANDARD
TZOFFSETFROM:-0500
TZOFFSETTO:-0600
TZNAME:CST
DTSTART:20221106T070000
END:STANDARD
BEGIN:DAYLIGHT
TZOFFSETFROM:-0600
TZOFFSETTO:-0500
TZNAME:CDT
DTSTART:20230312T080000
END:DAYLIGHT
BEGIN:STANDARD
TZOFFSETFROM:-0500
TZOFFSETTO:-0600
TZNAME:CST
DTSTART:20231105T070000
END:STANDARD
BEGIN:DAYLIGHT
TZOFFSETFROM:-0600
TZOFFSETTO:-0500
TZNAME:CDT
DTSTART:20240310T080000
END:DAYLIGHT
BEGIN:STANDARD
TZOFFSETFROM:-0500
TZOFFSETTO:-0600
TZNAME:CST
DTSTART:20241103T070000
END:STANDARD
END:VTIMEZONE
BEGIN:VEVENT
DTSTART;TZID=America/Chicago:20231205T150000
DTEND;TZID=America/Chicago:20231205T170000
DTSTAMP:20260421T154114
CREATED:20230829T174903Z
LAST-MODIFIED:20230829T174903Z
UID:30510-1701788400-1701795600@connorsstate.edu
SUMMARY:Make & Take Book Page Ornament Workshop
DESCRIPTION:
URL:https://connorsstate.edu/event/make-take-book-page-ornament-workshop/
LOCATION:Warner Library\, 700 College Rd.\, Warner\, OK\, 74469\, United States
ORGANIZER;CN="Ona Britton-Spears":MAILTO:ona.britton-spears@connorsstate.edu
END:VEVENT
BEGIN:VEVENT
DTSTART;TZID=America/Chicago:20231205T180000
DTEND;TZID=America/Chicago:20231205T210000
DTSTAMP:20260421T154114
CREATED:20230907T210952Z
LAST-MODIFIED:20230907T210952Z
UID:30609-1701799200-1701810000@connorsstate.edu
SUMMARY:Aggie Club- Christmas Cards for the Nursing home and Movie
DESCRIPTION:
URL:https://connorsstate.edu/event/aggie-club-christmas-cards-for-the-nursing-home-and-movie/
LOCATION:OK
END:VEVENT
END:VCALENDAR