BEGIN:VCALENDAR
VERSION:2.0
PRODID:-//Connors State College - ECPv6.15.17.1//NONSGML v1.0//EN
CALSCALE:GREGORIAN
METHOD:PUBLISH
X-ORIGINAL-URL:https://connorsstate.edu
X-WR-CALDESC:Events for Connors State College
REFRESH-INTERVAL;VALUE=DURATION:PT1H
X-Robots-Tag:noindex
X-PUBLISHED-TTL:PT1H
BEGIN:VTIMEZONE
TZID:America/Chicago
BEGIN:DAYLIGHT
TZOFFSETFROM:-0600
TZOFFSETTO:-0500
TZNAME:CDT
DTSTART:20230312T080000
END:DAYLIGHT
BEGIN:STANDARD
TZOFFSETFROM:-0500
TZOFFSETTO:-0600
TZNAME:CST
DTSTART:20231105T070000
END:STANDARD
BEGIN:DAYLIGHT
TZOFFSETFROM:-0600
TZOFFSETTO:-0500
TZNAME:CDT
DTSTART:20240310T080000
END:DAYLIGHT
BEGIN:STANDARD
TZOFFSETFROM:-0500
TZOFFSETTO:-0600
TZNAME:CST
DTSTART:20241103T070000
END:STANDARD
BEGIN:DAYLIGHT
TZOFFSETFROM:-0600
TZOFFSETTO:-0500
TZNAME:CDT
DTSTART:20250309T080000
END:DAYLIGHT
BEGIN:STANDARD
TZOFFSETFROM:-0500
TZOFFSETTO:-0600
TZNAME:CST
DTSTART:20251102T070000
END:STANDARD
END:VTIMEZONE
BEGIN:VEVENT
DTSTART;VALUE=DATE:20240201
DTEND;VALUE=DATE:20240205
DTSTAMP:20260421T130015
CREATED:20230711T150400Z
LAST-MODIFIED:20230711T150400Z
UID:29795-1706745600-1707091199@connorsstate.edu
SUMMARY:CSC Shotgun Shooting Sports
DESCRIPTION:Lower Midwest Super Shoot (San Antonio\, TX)
URL:https://connorsstate.edu/event/csc-shotgun-shooting-sports-16/
LOCATION:OK
END:VEVENT
BEGIN:VEVENT
DTSTART;VALUE=DATE:20240201
DTEND;VALUE=DATE:20240215
DTSTAMP:20260421T130015
CREATED:20240109T204945Z
LAST-MODIFIED:20240109T205533Z
UID:32653-1706745600-1707955199@connorsstate.edu
SUMMARY:CSC Library- Valentines Virtual Treasure Hunt
DESCRIPTION:
URL:https://connorsstate.edu/event/valentines-virtual-treasure-hunt/
LOCATION:CSC Library\, 700 College Road\, Warner\, OK\, 74469
ORGANIZER;CN="Ona Britton-Spears":MAILTO:ona.britton-spears@connorsstate.edu
END:VEVENT
BEGIN:VEVENT
DTSTART;TZID=America/Chicago:20240201T173000
DTEND;TZID=America/Chicago:20240201T190000
DTSTAMP:20260421T130015
CREATED:20230629T184642Z
LAST-MODIFIED:20230801T202428Z
UID:29724-1706808600-1706814000@connorsstate.edu
SUMMARY:Cowgirl Basketball @ NEO
DESCRIPTION:Miami\, OK
URL:https://connorsstate.edu/event/neo-vs-cowgirl-basketball/
LOCATION:OK
END:VEVENT
BEGIN:VEVENT
DTSTART;TZID=America/Chicago:20240201T193000
DTEND;TZID=America/Chicago:20240201T210000
DTSTAMP:20260421T130015
CREATED:20230801T193654Z
LAST-MODIFIED:20230801T193654Z
UID:30046-1706815800-1706821200@connorsstate.edu
SUMMARY:Cowboy Basketball @ Northeastern Oklahoma A&M
DESCRIPTION:Miami\, OK
URL:https://connorsstate.edu/event/cowboy-basketball-northeastern-oklahoma-am/
LOCATION:OK
END:VEVENT
END:VCALENDAR