BEGIN:VCALENDAR
VERSION:2.0
PRODID:-//Connors State College - ECPv6.15.17.1//NONSGML v1.0//EN
CALSCALE:GREGORIAN
METHOD:PUBLISH
X-ORIGINAL-URL:https://connorsstate.edu
X-WR-CALDESC:Events for Connors State College
REFRESH-INTERVAL;VALUE=DURATION:PT1H
X-Robots-Tag:noindex
X-PUBLISHED-TTL:PT1H
BEGIN:VTIMEZONE
TZID:America/Chicago
BEGIN:DAYLIGHT
TZOFFSETFROM:-0600
TZOFFSETTO:-0500
TZNAME:CDT
DTSTART:20230312T080000
END:DAYLIGHT
BEGIN:STANDARD
TZOFFSETFROM:-0500
TZOFFSETTO:-0600
TZNAME:CST
DTSTART:20231105T070000
END:STANDARD
BEGIN:DAYLIGHT
TZOFFSETFROM:-0600
TZOFFSETTO:-0500
TZNAME:CDT
DTSTART:20240310T080000
END:DAYLIGHT
BEGIN:STANDARD
TZOFFSETFROM:-0500
TZOFFSETTO:-0600
TZNAME:CST
DTSTART:20241103T070000
END:STANDARD
BEGIN:DAYLIGHT
TZOFFSETFROM:-0600
TZOFFSETTO:-0500
TZNAME:CDT
DTSTART:20250309T080000
END:DAYLIGHT
BEGIN:STANDARD
TZOFFSETFROM:-0500
TZOFFSETTO:-0600
TZNAME:CST
DTSTART:20251102T070000
END:STANDARD
END:VTIMEZONE
BEGIN:VEVENT
DTSTART;TZID=America/Chicago:20240215T173000
DTEND;TZID=America/Chicago:20240215T190000
DTSTAMP:20260421T130014
CREATED:20230629T185337Z
LAST-MODIFIED:20230629T185337Z
UID:29732-1708018200-1708023600@connorsstate.edu
SUMMARY:Cowgirl Basketball vs Murray State
DESCRIPTION:
URL:https://connorsstate.edu/event/cowgirl-basketball-vs-murray-state/
LOCATION:Melvin Self Fieldhouse\, 700 College Rd\, Warner\, OK\, 74469\, United States
END:VEVENT
BEGIN:VEVENT
DTSTART;TZID=America/Chicago:20240215T193000
DTEND;TZID=America/Chicago:20240215T210000
DTSTAMP:20260421T130014
CREATED:20230801T194617Z
LAST-MODIFIED:20230801T194617Z
UID:30054-1708025400-1708030800@connorsstate.edu
SUMMARY:Cowboy Basketball vs Murray State
DESCRIPTION:
URL:https://connorsstate.edu/event/cowboy-basketball-vs-murray-state/
LOCATION:Melvin Self Fieldhouse\, 700 College Rd\, Warner\, OK\, 74469\, United States
END:VEVENT
END:VCALENDAR