BEGIN:VCALENDAR
VERSION:2.0
PRODID:-//Connors State College - ECPv6.15.17.1//NONSGML v1.0//EN
CALSCALE:GREGORIAN
METHOD:PUBLISH
X-ORIGINAL-URL:https://connorsstate.edu
X-WR-CALDESC:Events for Connors State College
REFRESH-INTERVAL;VALUE=DURATION:PT1H
X-Robots-Tag:noindex
X-PUBLISHED-TTL:PT1H
BEGIN:VTIMEZONE
TZID:America/Chicago
BEGIN:DAYLIGHT
TZOFFSETFROM:-0600
TZOFFSETTO:-0500
TZNAME:CDT
DTSTART:20230312T080000
END:DAYLIGHT
BEGIN:STANDARD
TZOFFSETFROM:-0500
TZOFFSETTO:-0600
TZNAME:CST
DTSTART:20231105T070000
END:STANDARD
BEGIN:DAYLIGHT
TZOFFSETFROM:-0600
TZOFFSETTO:-0500
TZNAME:CDT
DTSTART:20240310T080000
END:DAYLIGHT
BEGIN:STANDARD
TZOFFSETFROM:-0500
TZOFFSETTO:-0600
TZNAME:CST
DTSTART:20241103T070000
END:STANDARD
BEGIN:DAYLIGHT
TZOFFSETFROM:-0600
TZOFFSETTO:-0500
TZNAME:CDT
DTSTART:20250309T080000
END:DAYLIGHT
BEGIN:STANDARD
TZOFFSETFROM:-0500
TZOFFSETTO:-0600
TZNAME:CST
DTSTART:20251102T070000
END:STANDARD
END:VTIMEZONE
BEGIN:VEVENT
DTSTART;TZID=America/Chicago:20240226T130000
DTEND;TZID=America/Chicago:20240226T170000
DTSTAMP:20260421T113755
CREATED:20240126T191502Z
LAST-MODIFIED:20240126T191502Z
UID:32826-1708952400-1708966800@connorsstate.edu
SUMMARY:CSC Baseball @ Ozarks- DH
DESCRIPTION:Clarksville\, AR
URL:https://connorsstate.edu/event/csc-baseball-ozarks-dh/
LOCATION:OK
END:VEVENT
BEGIN:VEVENT
DTSTART;TZID=America/Chicago:20240226T173000
DTEND;TZID=America/Chicago:20240226T190000
DTSTAMP:20260421T113755
CREATED:20230629T185644Z
LAST-MODIFIED:20230629T185644Z
UID:29736-1708968600-1708974000@connorsstate.edu
SUMMARY:Cowgirl Basketball vs NOC Enid
DESCRIPTION:
URL:https://connorsstate.edu/event/cowgirl-basketball-vs-noc-enid/
LOCATION:Melvin Self Fieldhouse\, 700 College Rd\, Warner\, OK\, 74469\, United States
END:VEVENT
BEGIN:VEVENT
DTSTART;TZID=America/Chicago:20240226T193000
DTEND;TZID=America/Chicago:20240226T210000
DTSTAMP:20260421T113755
CREATED:20230801T194913Z
LAST-MODIFIED:20230801T194913Z
UID:30058-1708975800-1708981200@connorsstate.edu
SUMMARY:Cowboy Basketball vs Northern Oklahoma-Enid
DESCRIPTION:
URL:https://connorsstate.edu/event/cowboy-basketball-vs-northern-oklahoma-enid/
LOCATION:Melvin Self Fieldhouse\, 700 College Rd\, Warner\, OK\, 74469\, United States
END:VEVENT
END:VCALENDAR