BEGIN:VCALENDAR
VERSION:2.0
PRODID:-//Connors State College - ECPv6.15.17.1//NONSGML v1.0//EN
CALSCALE:GREGORIAN
METHOD:PUBLISH
X-WR-CALNAME:Connors State College
X-ORIGINAL-URL:https://connorsstate.edu
X-WR-CALDESC:Events for Connors State College
REFRESH-INTERVAL;VALUE=DURATION:PT1H
X-Robots-Tag:noindex
X-PUBLISHED-TTL:PT1H
BEGIN:VTIMEZONE
TZID:America/Chicago
BEGIN:DAYLIGHT
TZOFFSETFROM:-0600
TZOFFSETTO:-0500
TZNAME:CDT
DTSTART:20230312T080000
END:DAYLIGHT
BEGIN:STANDARD
TZOFFSETFROM:-0500
TZOFFSETTO:-0600
TZNAME:CST
DTSTART:20231105T070000
END:STANDARD
BEGIN:DAYLIGHT
TZOFFSETFROM:-0600
TZOFFSETTO:-0500
TZNAME:CDT
DTSTART:20240310T080000
END:DAYLIGHT
BEGIN:STANDARD
TZOFFSETFROM:-0500
TZOFFSETTO:-0600
TZNAME:CST
DTSTART:20241103T070000
END:STANDARD
BEGIN:DAYLIGHT
TZOFFSETFROM:-0600
TZOFFSETTO:-0500
TZNAME:CDT
DTSTART:20250309T080000
END:DAYLIGHT
BEGIN:STANDARD
TZOFFSETFROM:-0500
TZOFFSETTO:-0600
TZNAME:CST
DTSTART:20251102T070000
END:STANDARD
END:VTIMEZONE
BEGIN:VEVENT
DTSTART;TZID=America/Chicago:20240229T130000
DTEND;TZID=America/Chicago:20240229T150000
DTSTAMP:20260421T113056
CREATED:20240126T191823Z
LAST-MODIFIED:20240126T191823Z
UID:32831-1709211600-1709218800@connorsstate.edu
SUMMARY:CSC Baseball @ NEO A&M
DESCRIPTION:Miami\, OK
URL:https://connorsstate.edu/event/csc-baseball-neo-am-2/
LOCATION:OK
END:VEVENT
BEGIN:VEVENT
DTSTART;TZID=America/Chicago:20240229T173000
DTEND;TZID=America/Chicago:20240229T190000
DTSTAMP:20260421T113056
CREATED:20230629T185745Z
LAST-MODIFIED:20230801T202816Z
UID:29738-1709227800-1709233200@connorsstate.edu
SUMMARY:Cowgirl Basketball @ Redlands
DESCRIPTION:El Reno\, OK
URL:https://connorsstate.edu/event/redlands-vs-cowgirl-basketball/
LOCATION:OK
END:VEVENT
BEGIN:VEVENT
DTSTART;TZID=America/Chicago:20240229T193000
DTEND;TZID=America/Chicago:20240229T210000
DTSTAMP:20260421T113056
CREATED:20230801T195032Z
LAST-MODIFIED:20230801T195032Z
UID:30060-1709235000-1709240400@connorsstate.edu
SUMMARY:Cowboy Basketball @ Redlands CC
DESCRIPTION:El Reno\, OK
URL:https://connorsstate.edu/event/cowboy-basketball-redlands-cc/
LOCATION:OK
END:VEVENT
END:VCALENDAR