BEGIN:VCALENDAR
VERSION:2.0
PRODID:-//Connors State College - ECPv6.15.17.1//NONSGML v1.0//EN
CALSCALE:GREGORIAN
METHOD:PUBLISH
X-ORIGINAL-URL:https://connorsstate.edu
X-WR-CALDESC:Events for Connors State College
REFRESH-INTERVAL;VALUE=DURATION:PT1H
X-Robots-Tag:noindex
X-PUBLISHED-TTL:PT1H
BEGIN:VTIMEZONE
TZID:America/Chicago
BEGIN:DAYLIGHT
TZOFFSETFROM:-0600
TZOFFSETTO:-0500
TZNAME:CDT
DTSTART:20230312T080000
END:DAYLIGHT
BEGIN:STANDARD
TZOFFSETFROM:-0500
TZOFFSETTO:-0600
TZNAME:CST
DTSTART:20231105T070000
END:STANDARD
BEGIN:DAYLIGHT
TZOFFSETFROM:-0600
TZOFFSETTO:-0500
TZNAME:CDT
DTSTART:20240310T080000
END:DAYLIGHT
BEGIN:STANDARD
TZOFFSETFROM:-0500
TZOFFSETTO:-0600
TZNAME:CST
DTSTART:20241103T070000
END:STANDARD
BEGIN:DAYLIGHT
TZOFFSETFROM:-0600
TZOFFSETTO:-0500
TZNAME:CDT
DTSTART:20250309T080000
END:DAYLIGHT
BEGIN:STANDARD
TZOFFSETFROM:-0500
TZOFFSETTO:-0600
TZNAME:CST
DTSTART:20251102T070000
END:STANDARD
END:VTIMEZONE
BEGIN:VEVENT
DTSTART;TZID=America/Chicago:20240305T100000
DTEND;TZID=America/Chicago:20240305T150000
DTSTAMP:20260421T113609
CREATED:20240112T193535Z
LAST-MODIFIED:20240112T193535Z
UID:32712-1709632800-1709650800@connorsstate.edu
SUMMARY:CSC Spring Rodeo Scouting and Try Outs
DESCRIPTION:
URL:https://connorsstate.edu/event/csc-spring-rodeo-scouting-and-try-outs/
LOCATION:Indoor & Outdoor Arena\, Hall of Fame\, 700 College Road\, Warner\, OK\, 74469
ORGANIZER;CN="Coach Jake Walker":MAILTO:jake.walker@connorsstate.edu
END:VEVENT
BEGIN:VEVENT
DTSTART;TZID=America/Chicago:20240305T140000
DTEND;TZID=America/Chicago:20240305T170000
DTSTAMP:20260421T113609
CREATED:20240109T205710Z
LAST-MODIFIED:20240109T205710Z
UID:32664-1709647200-1709658000@connorsstate.edu
SUMMARY:CSC Library- Scrapbooking a woman for Woman's History Month
DESCRIPTION:
URL:https://connorsstate.edu/event/csc-library-scrapbooking-a-woman-for-womans-history-month/
LOCATION:CSC Library\, 700 College Road\, Warner\, OK\, 74469
ORGANIZER;CN="Ona Britton-Spears":MAILTO:ona.britton-spears@connorsstate.edu
END:VEVENT
END:VCALENDAR