BEGIN:VCALENDAR
VERSION:2.0
PRODID:-//Connors State College - ECPv6.15.17.1//NONSGML v1.0//EN
CALSCALE:GREGORIAN
METHOD:PUBLISH
X-ORIGINAL-URL:https://connorsstate.edu
X-WR-CALDESC:Events for Connors State College
REFRESH-INTERVAL;VALUE=DURATION:PT1H
X-Robots-Tag:noindex
X-PUBLISHED-TTL:PT1H
BEGIN:VTIMEZONE
TZID:America/Chicago
BEGIN:DAYLIGHT
TZOFFSETFROM:-0600
TZOFFSETTO:-0500
TZNAME:CDT
DTSTART:20230312T080000
END:DAYLIGHT
BEGIN:STANDARD
TZOFFSETFROM:-0500
TZOFFSETTO:-0600
TZNAME:CST
DTSTART:20231105T070000
END:STANDARD
BEGIN:DAYLIGHT
TZOFFSETFROM:-0600
TZOFFSETTO:-0500
TZNAME:CDT
DTSTART:20240310T080000
END:DAYLIGHT
BEGIN:STANDARD
TZOFFSETFROM:-0500
TZOFFSETTO:-0600
TZNAME:CST
DTSTART:20241103T070000
END:STANDARD
BEGIN:DAYLIGHT
TZOFFSETFROM:-0600
TZOFFSETTO:-0500
TZNAME:CDT
DTSTART:20250309T080000
END:DAYLIGHT
BEGIN:STANDARD
TZOFFSETFROM:-0500
TZOFFSETTO:-0600
TZNAME:CST
DTSTART:20251102T070000
END:STANDARD
END:VTIMEZONE
BEGIN:VEVENT
DTSTART;VALUE=DATE:20240417
DTEND;VALUE=DATE:20240428
DTSTAMP:20260421T100354
CREATED:20240223T200355Z
LAST-MODIFIED:20240223T200355Z
UID:34376-1713312000-1714262399@connorsstate.edu
SUMMARY:CSC Plant Sale
DESCRIPTION:Please see their Facebook page for more details.
URL:https://connorsstate.edu/event/csc-plant-sale/
LOCATION:Green Houses\, 700 College Rd\, Warner\, OK\, 74469\, United States
END:VEVENT
BEGIN:VEVENT
DTSTART;VALUE=DATE:20240418
DTEND;VALUE=DATE:20240421
DTSTAMP:20260421T100354
CREATED:20230802T171047Z
LAST-MODIFIED:20230802T171047Z
UID:30193-1713398400-1713657599@connorsstate.edu
SUMMARY:CSC Rodeo Team @ FHSU
DESCRIPTION:Hayes\, KS
URL:https://connorsstate.edu/event/csc-rodeo-team-fhsu-2/
LOCATION:OK
ORGANIZER;CN="Coach Jake Walker":MAILTO:jake.walker@connorsstate.edu
END:VEVENT
BEGIN:VEVENT
DTSTART;TZID=America/Chicago:20240418T180000
DTEND;TZID=America/Chicago:20240418T200000
DTSTAMP:20260421T100354
CREATED:20240126T194525Z
LAST-MODIFIED:20240126T194525Z
UID:32875-1713463200-1713470400@connorsstate.edu
SUMMARY:CSC Baseball vs Seminole State
DESCRIPTION:
URL:https://connorsstate.edu/event/csc-baseball-vs-seminole-state/
LOCATION:OK
END:VEVENT
END:VCALENDAR