BEGIN:VCALENDAR
VERSION:2.0
PRODID:-//Connors State College - ECPv6.15.17.1//NONSGML v1.0//EN
CALSCALE:GREGORIAN
METHOD:PUBLISH
X-ORIGINAL-URL:https://connorsstate.edu
X-WR-CALDESC:Events for Connors State College
REFRESH-INTERVAL;VALUE=DURATION:PT1H
X-Robots-Tag:noindex
X-PUBLISHED-TTL:PT1H
BEGIN:VTIMEZONE
TZID:America/Chicago
BEGIN:DAYLIGHT
TZOFFSETFROM:-0600
TZOFFSETTO:-0500
TZNAME:CDT
DTSTART:20230312T080000
END:DAYLIGHT
BEGIN:STANDARD
TZOFFSETFROM:-0500
TZOFFSETTO:-0600
TZNAME:CST
DTSTART:20231105T070000
END:STANDARD
BEGIN:DAYLIGHT
TZOFFSETFROM:-0600
TZOFFSETTO:-0500
TZNAME:CDT
DTSTART:20240310T080000
END:DAYLIGHT
BEGIN:STANDARD
TZOFFSETFROM:-0500
TZOFFSETTO:-0600
TZNAME:CST
DTSTART:20241103T070000
END:STANDARD
BEGIN:DAYLIGHT
TZOFFSETFROM:-0600
TZOFFSETTO:-0500
TZNAME:CDT
DTSTART:20250309T080000
END:DAYLIGHT
BEGIN:STANDARD
TZOFFSETFROM:-0500
TZOFFSETTO:-0600
TZNAME:CST
DTSTART:20251102T070000
END:STANDARD
END:VTIMEZONE
BEGIN:VEVENT
DTSTART;VALUE=DATE:20240417
DTEND;VALUE=DATE:20240428
DTSTAMP:20260421T100446
CREATED:20240223T200355Z
LAST-MODIFIED:20240223T200355Z
UID:34376-1713312000-1714262399@connorsstate.edu
SUMMARY:CSC Plant Sale
DESCRIPTION:Please see their Facebook page for more details.
URL:https://connorsstate.edu/event/csc-plant-sale/
LOCATION:Green Houses\, 700 College Rd\, Warner\, OK\, 74469\, United States
END:VEVENT
BEGIN:VEVENT
DTSTART;VALUE=DATE:20240424
DTEND;VALUE=DATE:20240425
DTSTAMP:20260421T100446
CREATED:20240109T210148Z
LAST-MODIFIED:20240109T210148Z
UID:32674-1713916800-1714003199@connorsstate.edu
SUMMARY:Honors Research Seminar- TBA
DESCRIPTION:
URL:https://connorsstate.edu/event/honors-research-seminar-tba/
LOCATION:OK
END:VEVENT
BEGIN:VEVENT
DTSTART;VALUE=DATE:20240424
DTEND;VALUE=DATE:20240425
DTSTAMP:20260421T100446
CREATED:20240223T200433Z
LAST-MODIFIED:20240223T200433Z
UID:34378-1713916800-1714003199@connorsstate.edu
SUMMARY:N.E. Region FFA Speech Contest
DESCRIPTION:
URL:https://connorsstate.edu/event/n-e-region-ffa-speech-contest/
LOCATION:Warner Campus\, 700 College Rd\, Warner\, OK\, 74469\, United States
END:VEVENT
BEGIN:VEVENT
DTSTART;TZID=America/Chicago:20240424T130000
DTEND;TZID=America/Chicago:20240424T150000
DTSTAMP:20260421T100446
CREATED:20240126T195318Z
LAST-MODIFIED:20240126T195318Z
UID:32881-1713963600-1713970800@connorsstate.edu
SUMMARY:CSC Baseball @ Arkansas Tech
DESCRIPTION:Russellville\, AR
URL:https://connorsstate.edu/event/csc-baseball-arkansas-tech/
LOCATION:OK
END:VEVENT
END:VCALENDAR