BEGIN:VCALENDAR
VERSION:2.0
PRODID:-//Connors State College - ECPv6.15.17.1//NONSGML v1.0//EN
CALSCALE:GREGORIAN
METHOD:PUBLISH
X-WR-CALNAME:Connors State College
X-ORIGINAL-URL:https://connorsstate.edu
X-WR-CALDESC:Events for Connors State College
REFRESH-INTERVAL;VALUE=DURATION:PT1H
X-Robots-Tag:noindex
X-PUBLISHED-TTL:PT1H
BEGIN:VTIMEZONE
TZID:America/Chicago
BEGIN:DAYLIGHT
TZOFFSETFROM:-0600
TZOFFSETTO:-0500
TZNAME:CDT
DTSTART:20230312T080000
END:DAYLIGHT
BEGIN:STANDARD
TZOFFSETFROM:-0500
TZOFFSETTO:-0600
TZNAME:CST
DTSTART:20231105T070000
END:STANDARD
BEGIN:DAYLIGHT
TZOFFSETFROM:-0600
TZOFFSETTO:-0500
TZNAME:CDT
DTSTART:20240310T080000
END:DAYLIGHT
BEGIN:STANDARD
TZOFFSETFROM:-0500
TZOFFSETTO:-0600
TZNAME:CST
DTSTART:20241103T070000
END:STANDARD
BEGIN:DAYLIGHT
TZOFFSETFROM:-0600
TZOFFSETTO:-0500
TZNAME:CDT
DTSTART:20250309T080000
END:DAYLIGHT
BEGIN:STANDARD
TZOFFSETFROM:-0500
TZOFFSETTO:-0600
TZNAME:CST
DTSTART:20251102T070000
END:STANDARD
END:VTIMEZONE
BEGIN:VEVENT
DTSTART;TZID=America/Chicago:20240822T130000
DTEND;TZID=America/Chicago:20240822T170000
DTSTAMP:20260421T000204
CREATED:20240911T133356Z
LAST-MODIFIED:20240911T133356Z
UID:39332-1724331600-1724346000@connorsstate.edu
SUMMARY:CSC Soccer @ Cossatot
DESCRIPTION:Arkansas \nCSC Women’s @ 1 \nCSC Men’s @ 3
URL:https://connorsstate.edu/event/csc-soccer-cossatot/
LOCATION:OK
ORGANIZER;CN="Coach Adam Skolnick":MAILTO:adam.skolnick@connorsstate.edu
END:VEVENT
BEGIN:VEVENT
DTSTART;TZID=America/Chicago:20240822T180000
DTEND;TZID=America/Chicago:20240822T200000
DTSTAMP:20260421T000204
CREATED:20240815T220208Z
LAST-MODIFIED:20240815T220225Z
UID:38485-1724349600-1724356800@connorsstate.edu
SUMMARY:Wiffleball
DESCRIPTION:
URL:https://connorsstate.edu/event/wiffleball/
LOCATION:Cowboy Square\, 700 College Rd\, Warner\, OK\, 74469\, United States
ORGANIZER;CN="Christian Jones":MAILTO:cjones51@connorsstate.edu
END:VEVENT
END:VCALENDAR