BEGIN:VCALENDAR
VERSION:2.0
PRODID:-//Connors State College - ECPv6.15.17.1//NONSGML v1.0//EN
CALSCALE:GREGORIAN
METHOD:PUBLISH
X-WR-CALNAME:Connors State College
X-ORIGINAL-URL:https://connorsstate.edu
X-WR-CALDESC:Events for Connors State College
REFRESH-INTERVAL;VALUE=DURATION:PT1H
X-Robots-Tag:noindex
X-PUBLISHED-TTL:PT1H
BEGIN:VTIMEZONE
TZID:America/Chicago
BEGIN:DAYLIGHT
TZOFFSETFROM:-0600
TZOFFSETTO:-0500
TZNAME:CDT
DTSTART:20230312T080000
END:DAYLIGHT
BEGIN:STANDARD
TZOFFSETFROM:-0500
TZOFFSETTO:-0600
TZNAME:CST
DTSTART:20231105T070000
END:STANDARD
BEGIN:DAYLIGHT
TZOFFSETFROM:-0600
TZOFFSETTO:-0500
TZNAME:CDT
DTSTART:20240310T080000
END:DAYLIGHT
BEGIN:STANDARD
TZOFFSETFROM:-0500
TZOFFSETTO:-0600
TZNAME:CST
DTSTART:20241103T070000
END:STANDARD
BEGIN:DAYLIGHT
TZOFFSETFROM:-0600
TZOFFSETTO:-0500
TZNAME:CDT
DTSTART:20250309T080000
END:DAYLIGHT
BEGIN:STANDARD
TZOFFSETFROM:-0500
TZOFFSETTO:-0600
TZNAME:CST
DTSTART:20251102T070000
END:STANDARD
END:VTIMEZONE
BEGIN:VEVENT
DTSTART;VALUE=DATE:20240918
DTEND;VALUE=DATE:20240929
DTSTAMP:20260420T223506
CREATED:20240827T184236Z
LAST-MODIFIED:20240827T184236Z
UID:38725-1726617600-1727567999@connorsstate.edu
SUMMARY:CSC Plant Sale
DESCRIPTION:
URL:https://connorsstate.edu/event/csc-plant-sale-2/
LOCATION:OK
END:VEVENT
BEGIN:VEVENT
DTSTART;TZID=America/Chicago:20240918T130000
DTEND;TZID=America/Chicago:20240918T170000
DTSTAMP:20260420T223506
CREATED:20240911T140335Z
LAST-MODIFIED:20240911T140335Z
UID:39344-1726664400-1726678800@connorsstate.edu
SUMMARY:CSC Soccer vs Rose State College
DESCRIPTION:CSC Women’s @ 1 \nCSC Men’s @ 3
URL:https://connorsstate.edu/event/csc-soccer-vs-rose-state-college/
LOCATION:Love-Hatbox Sports Complex- Soccer Field\, 504 S Hatbox Rd.\, Muskogee\, OK\, 74401\, United States
ORGANIZER;CN="Coach Adam Skolnick":MAILTO:adam.skolnick@connorsstate.edu
END:VEVENT
BEGIN:VEVENT
DTSTART;TZID=America/Chicago:20240918T173000
DTEND;TZID=America/Chicago:20240918T193000
DTSTAMP:20260420T223506
CREATED:20240913T205708Z
LAST-MODIFIED:20240913T205708Z
UID:39469-1726680600-1726687800@connorsstate.edu
SUMMARY:Aggie Club- Annual Fishing Tournament
DESCRIPTION:
URL:https://connorsstate.edu/event/aggie-club-annual-fishing-tournament/
LOCATION:Harding South Ranch
ORGANIZER;CN="Trent Todd":MAILTO:ttrentd@connorsstate.edu
END:VEVENT
END:VCALENDAR