BEGIN:VCALENDAR
VERSION:2.0
PRODID:-//Connors State College - ECPv6.15.17.1//NONSGML v1.0//EN
CALSCALE:GREGORIAN
METHOD:PUBLISH
X-ORIGINAL-URL:https://connorsstate.edu
X-WR-CALDESC:Events for Connors State College
REFRESH-INTERVAL;VALUE=DURATION:PT1H
X-Robots-Tag:noindex
X-PUBLISHED-TTL:PT1H
BEGIN:VTIMEZONE
TZID:America/Chicago
BEGIN:DAYLIGHT
TZOFFSETFROM:-0600
TZOFFSETTO:-0500
TZNAME:CDT
DTSTART:20230312T080000
END:DAYLIGHT
BEGIN:STANDARD
TZOFFSETFROM:-0500
TZOFFSETTO:-0600
TZNAME:CST
DTSTART:20231105T070000
END:STANDARD
BEGIN:DAYLIGHT
TZOFFSETFROM:-0600
TZOFFSETTO:-0500
TZNAME:CDT
DTSTART:20240310T080000
END:DAYLIGHT
BEGIN:STANDARD
TZOFFSETFROM:-0500
TZOFFSETTO:-0600
TZNAME:CST
DTSTART:20241103T070000
END:STANDARD
BEGIN:DAYLIGHT
TZOFFSETFROM:-0600
TZOFFSETTO:-0500
TZNAME:CDT
DTSTART:20250309T080000
END:DAYLIGHT
BEGIN:STANDARD
TZOFFSETFROM:-0500
TZOFFSETTO:-0600
TZNAME:CST
DTSTART:20251102T070000
END:STANDARD
END:VTIMEZONE
BEGIN:VEVENT
DTSTART;VALUE=DATE:20240918
DTEND;VALUE=DATE:20240929
DTSTAMP:20260420T223608
CREATED:20240827T184236Z
LAST-MODIFIED:20240827T184236Z
UID:38725-1726617600-1727567999@connorsstate.edu
SUMMARY:CSC Plant Sale
DESCRIPTION:
URL:https://connorsstate.edu/event/csc-plant-sale-2/
LOCATION:OK
END:VEVENT
BEGIN:VEVENT
DTSTART;TZID=America/Chicago:20240924T170000
DTEND;TZID=America/Chicago:20240926T193000
DTSTAMP:20260420T223608
CREATED:20240916T141406Z
LAST-MODIFIED:20240916T141406Z
UID:39485-1727197200-1727379000@connorsstate.edu
SUMMARY:FREE- Computer Science eCamp
DESCRIPTION:The NASNTI Title III Computer Science project is hosting a FREE Computer Science eCamp\, September 24\, 25\, & 26 at the Muskogee Port Campus. We’ll meet each evening from 5-7:30 p.m. in the Nursing and Allied Health (NAH) Building\, room 156. \nParticipants must be age 16 or above. \nThe hands-on workshops focus on various career paths and workforce skills in Computer Science and IT\, specifically\, programming\, computer hardware\, and networking. \nStudents with interests in communications\, business\, agribusiness\, computers\, IT\, math\, robotics\, as well as students who want to investigate related career paths\, will benefit from participation in this FREE opportunity. \nPast eCamp students have enjoyed the hands-on\, supportive learning environment. Professional IT staff and CSC faculty lead the workshops and are available to work individually with students. \nThe link and the QR code to PREREGISTER are provided below. There are a limited number of computer workstations\, so preregistration is required. \nhttps://forms.office.com/r/1GRprGbPSR
URL:https://connorsstate.edu/event/free-computer-science-ecamp/
LOCATION:Muskogee-Port Campus\, 2501 N. 41st Street East\, Muskogee\, 74403\, United States
ORGANIZER;CN="Rebecca Clovis":MAILTO:rebecca.clovis@connorsstate.edu
END:VEVENT
BEGIN:VEVENT
DTSTART;TZID=America/Chicago:20240925T090000
DTEND;TZID=America/Chicago:20240925T140000
DTSTAMP:20260420T223608
CREATED:20240905T201019Z
LAST-MODIFIED:20240905T201019Z
UID:39090-1727254800-1727272800@connorsstate.edu
SUMMARY:Western Heritage Days
DESCRIPTION:Silver Spur Arena\, Haskell\, OK
URL:https://connorsstate.edu/event/western-heritage-days/
LOCATION:OK
ORGANIZER;CN="Coach Jake Walker":MAILTO:jake.walker@connorsstate.edu
END:VEVENT
BEGIN:VEVENT
DTSTART;TZID=America/Chicago:20240925T130000
DTEND;TZID=America/Chicago:20240925T170000
DTSTAMP:20260420T223608
CREATED:20240911T140658Z
LAST-MODIFIED:20240911T140658Z
UID:39357-1727269200-1727283600@connorsstate.edu
SUMMARY:CSC Soccer vs Eastern
DESCRIPTION:CSC Women’s @ 1 \nCSC Men’s @ 3
URL:https://connorsstate.edu/event/csc-soccer-vs-eastern/
LOCATION:Love-Hatbox Sports Complex- Soccer Field\, 504 S Hatbox Rd.\, Muskogee\, OK\, 74401\, United States
ORGANIZER;CN="Coach Adam Skolnick":MAILTO:adam.skolnick@connorsstate.edu
END:VEVENT
BEGIN:VEVENT
DTSTART;TZID=America/Chicago:20240925T180000
DTEND;TZID=America/Chicago:20240925T193000
DTSTAMP:20260420T223608
CREATED:20240913T211436Z
LAST-MODIFIED:20240913T211436Z
UID:39480-1727287200-1727292600@connorsstate.edu
SUMMARY:Research Seminar
DESCRIPTION:
URL:https://connorsstate.edu/event/research-seminar/
LOCATION:LLC Auditorium\, 700 College Rd\, Warner\, OK\, 74469\, United States
ORGANIZER;CN="Ona Britton-Spears":MAILTO:ona.britton-spears@connorsstate.edu
END:VEVENT
BEGIN:VEVENT
DTSTART;TZID=America/Chicago:20240925T180000
DTEND;TZID=America/Chicago:20240925T193000
DTSTAMP:20260420T223608
CREATED:20240917T191820Z
LAST-MODIFIED:20240917T191842Z
UID:39513-1727287200-1727292600@connorsstate.edu
SUMMARY:Research Seminar Series- Sarah Faubion
DESCRIPTION:In Person- LLC Library Auditorium \n  \nThe presentations are also available on Zoom: https://connorsstate.zoom.us/j/98456899257?pwd=o2thHQkA01nFIDgKDRhLHYFzvOHXmf.1 \n 
URL:https://connorsstate.edu/event/research-seminar-series/
LOCATION:LLC Auditorium\, 700 College Rd\, Warner\, OK\, 74469\, United States
ORGANIZER;CN="Ona Britton-Spears":MAILTO:ona.britton-spears@connorsstate.edu
END:VEVENT
END:VCALENDAR