BEGIN:VCALENDAR
VERSION:2.0
PRODID:-//Connors State College - ECPv6.15.17.1//NONSGML v1.0//EN
CALSCALE:GREGORIAN
METHOD:PUBLISH
X-ORIGINAL-URL:https://connorsstate.edu
X-WR-CALDESC:Events for Connors State College
REFRESH-INTERVAL;VALUE=DURATION:PT1H
X-Robots-Tag:noindex
X-PUBLISHED-TTL:PT1H
BEGIN:VTIMEZONE
TZID:America/Chicago
BEGIN:DAYLIGHT
TZOFFSETFROM:-0600
TZOFFSETTO:-0500
TZNAME:CDT
DTSTART:20230312T080000
END:DAYLIGHT
BEGIN:STANDARD
TZOFFSETFROM:-0500
TZOFFSETTO:-0600
TZNAME:CST
DTSTART:20231105T070000
END:STANDARD
BEGIN:DAYLIGHT
TZOFFSETFROM:-0600
TZOFFSETTO:-0500
TZNAME:CDT
DTSTART:20240310T080000
END:DAYLIGHT
BEGIN:STANDARD
TZOFFSETFROM:-0500
TZOFFSETTO:-0600
TZNAME:CST
DTSTART:20241103T070000
END:STANDARD
BEGIN:DAYLIGHT
TZOFFSETFROM:-0600
TZOFFSETTO:-0500
TZNAME:CDT
DTSTART:20250309T080000
END:DAYLIGHT
BEGIN:STANDARD
TZOFFSETFROM:-0500
TZOFFSETTO:-0600
TZNAME:CST
DTSTART:20251102T070000
END:STANDARD
END:VTIMEZONE
BEGIN:VEVENT
DTSTART;VALUE=DATE:20240918
DTEND;VALUE=DATE:20240929
DTSTAMP:20260420T223607
CREATED:20240827T184236Z
LAST-MODIFIED:20240827T184236Z
UID:38725-1726617600-1727567999@connorsstate.edu
SUMMARY:CSC Plant Sale
DESCRIPTION:
URL:https://connorsstate.edu/event/csc-plant-sale-2/
LOCATION:OK
END:VEVENT
BEGIN:VEVENT
DTSTART;TZID=America/Chicago:20240924T170000
DTEND;TZID=America/Chicago:20240926T193000
DTSTAMP:20260420T223607
CREATED:20240916T141406Z
LAST-MODIFIED:20240916T141406Z
UID:39485-1727197200-1727379000@connorsstate.edu
SUMMARY:FREE- Computer Science eCamp
DESCRIPTION:The NASNTI Title III Computer Science project is hosting a FREE Computer Science eCamp\, September 24\, 25\, & 26 at the Muskogee Port Campus. We’ll meet each evening from 5-7:30 p.m. in the Nursing and Allied Health (NAH) Building\, room 156. \nParticipants must be age 16 or above. \nThe hands-on workshops focus on various career paths and workforce skills in Computer Science and IT\, specifically\, programming\, computer hardware\, and networking. \nStudents with interests in communications\, business\, agribusiness\, computers\, IT\, math\, robotics\, as well as students who want to investigate related career paths\, will benefit from participation in this FREE opportunity. \nPast eCamp students have enjoyed the hands-on\, supportive learning environment. Professional IT staff and CSC faculty lead the workshops and are available to work individually with students. \nThe link and the QR code to PREREGISTER are provided below. There are a limited number of computer workstations\, so preregistration is required. \nhttps://forms.office.com/r/1GRprGbPSR
URL:https://connorsstate.edu/event/free-computer-science-ecamp/
LOCATION:Muskogee-Port Campus\, 2501 N. 41st Street East\, Muskogee\, 74403\, United States
ORGANIZER;CN="Rebecca Clovis":MAILTO:rebecca.clovis@connorsstate.edu
END:VEVENT
BEGIN:VEVENT
DTSTART;VALUE=DATE:20240926
DTEND;VALUE=DATE:20240927
DTSTAMP:20260420T223607
CREATED:20240911T152700Z
LAST-MODIFIED:20240911T152700Z
UID:39441-1727308800-1727395199@connorsstate.edu
SUMMARY:CSC Archery Team- Muskogee Creek National Shootout
DESCRIPTION:
URL:https://connorsstate.edu/event/csc-archery-team-muskogee-creek-national-shootout/
LOCATION:Harding South Ranch
ORGANIZER;CN="Coach Johnny King":MAILTO:john.king10@connorsstate.edu
END:VEVENT
BEGIN:VEVENT
DTSTART;VALUE=DATE:20240926
DTEND;VALUE=DATE:20240929
DTSTAMP:20260420T223607
CREATED:20240910T192415Z
LAST-MODIFIED:20240910T192415Z
UID:39273-1727308800-1727567999@connorsstate.edu
SUMMARY:CSC Rodeo @ Southeastern Oklahoma State University
DESCRIPTION:
URL:https://connorsstate.edu/event/csc-rodeo-southeastern-oklahoma-state-university/
LOCATION:OK
ORGANIZER;CN="Coach Jake Walker":MAILTO:jake.walker@connorsstate.edu
END:VEVENT
BEGIN:VEVENT
DTSTART;TZID=America/Chicago:20240926T120000
DTEND;TZID=America/Chicago:20240926T133000
DTSTAMP:20260420T223607
CREATED:20240924T191711Z
LAST-MODIFIED:20240924T191711Z
UID:39542-1727352000-1727357400@connorsstate.edu
SUMMARY:Chuck and Pearls- Voter Registration
DESCRIPTION:
URL:https://connorsstate.edu/event/chuck-and-pearls-voter-registration/
LOCATION:Fine Arts Auditorium\, 700 College Rd\, Warner\, OK\, 74469\, United States
ORGANIZER;CN="Carneta Cooper":MAILTO:carneta.cooper@connorsstate.edu
END:VEVENT
BEGIN:VEVENT
DTSTART;TZID=America/Chicago:20240926T130000
DTEND;TZID=America/Chicago:20240926T170000
DTSTAMP:20260420T223607
CREATED:20240905T193723Z
LAST-MODIFIED:20240905T193723Z
UID:39056-1727355600-1727370000@connorsstate.edu
SUMMARY:CSC Baseball @ Oklahoma Christian University
DESCRIPTION:Edmond\, OK
URL:https://connorsstate.edu/event/csc-baseball-oklahoma-christian-university-3/
LOCATION:OK
END:VEVENT
BEGIN:VEVENT
DTSTART;TZID=America/Chicago:20240926T140000
DTEND;TZID=America/Chicago:20240926T160000
DTSTAMP:20260420T223607
CREATED:20240905T194822Z
LAST-MODIFIED:20240905T194822Z
UID:39080-1727359200-1727366400@connorsstate.edu
SUMMARY:CSC Softball vs Coffeyville
DESCRIPTION:
URL:https://connorsstate.edu/event/csc-softball-vs-coffeyville/
LOCATION:Softball Field\, 700 College Rd\, Warner\, OK\, 74469\, United States
ORGANIZER;CN="Coach Bobby Foreman":MAILTO:fbobby@connorsstate.edu
END:VEVENT
BEGIN:VEVENT
DTSTART;TZID=America/Chicago:20240926T190000
DTEND;TZID=America/Chicago:20240926T203000
DTSTAMP:20260420T223607
CREATED:20240913T211513Z
LAST-MODIFIED:20240913T211513Z
UID:39482-1727377200-1727382600@connorsstate.edu
SUMMARY:Mario Kart Tournament
DESCRIPTION:
URL:https://connorsstate.edu/event/mario-kart-tournament/
LOCATION:Esports Lab\, 700 College Road\, Warner\, OK\, 74469
ORGANIZER;CN="Christian Jones":MAILTO:cjones51@connorsstate.edu
END:VEVENT
END:VCALENDAR