BEGIN:VCALENDAR
VERSION:2.0
PRODID:-//Connors State College - ECPv6.15.17.1//NONSGML v1.0//EN
CALSCALE:GREGORIAN
METHOD:PUBLISH
X-WR-CALNAME:Connors State College
X-ORIGINAL-URL:https://connorsstate.edu
X-WR-CALDESC:Events for Connors State College
REFRESH-INTERVAL;VALUE=DURATION:PT1H
X-Robots-Tag:noindex
X-PUBLISHED-TTL:PT1H
BEGIN:VTIMEZONE
TZID:America/Chicago
BEGIN:DAYLIGHT
TZOFFSETFROM:-0600
TZOFFSETTO:-0500
TZNAME:CDT
DTSTART:20230312T080000
END:DAYLIGHT
BEGIN:STANDARD
TZOFFSETFROM:-0500
TZOFFSETTO:-0600
TZNAME:CST
DTSTART:20231105T070000
END:STANDARD
BEGIN:DAYLIGHT
TZOFFSETFROM:-0600
TZOFFSETTO:-0500
TZNAME:CDT
DTSTART:20240310T080000
END:DAYLIGHT
BEGIN:STANDARD
TZOFFSETFROM:-0500
TZOFFSETTO:-0600
TZNAME:CST
DTSTART:20241103T070000
END:STANDARD
BEGIN:DAYLIGHT
TZOFFSETFROM:-0600
TZOFFSETTO:-0500
TZNAME:CDT
DTSTART:20250309T080000
END:DAYLIGHT
BEGIN:STANDARD
TZOFFSETFROM:-0500
TZOFFSETTO:-0600
TZNAME:CST
DTSTART:20251102T070000
END:STANDARD
END:VTIMEZONE
BEGIN:VEVENT
DTSTART;VALUE=DATE:20241002
DTEND;VALUE=DATE:20241003
DTSTAMP:20260420T223515
CREATED:20240905T193936Z
LAST-MODIFIED:20240905T193936Z
UID:39062-1727827200-1727913599@connorsstate.edu
SUMMARY:CSC Baseball @ UCO Festival
DESCRIPTION:Edmond\, OK
URL:https://connorsstate.edu/event/csc-baseball-uco-festival-3/
LOCATION:OK
END:VEVENT
BEGIN:VEVENT
DTSTART;VALUE=DATE:20241002
DTEND;VALUE=DATE:20241007
DTSTAMP:20260420T223515
CREATED:20240911T145946Z
LAST-MODIFIED:20240911T145946Z
UID:39414-1727827200-1728259199@connorsstate.edu
SUMMARY:CSC Archery Team- National 3D Championship
DESCRIPTION:USA Archery National 3D Championship
URL:https://connorsstate.edu/event/csc-archery-team-national-3d-championship/
LOCATION:OK
ORGANIZER;CN="Coach Johnny King":MAILTO:john.king10@connorsstate.edu
END:VEVENT
BEGIN:VEVENT
DTSTART;TZID=America/Chicago:20241002T120000
DTEND;TZID=America/Chicago:20241002T130000
DTSTAMP:20260420T223515
CREATED:20240916T141932Z
LAST-MODIFIED:20240916T141932Z
UID:39488-1727870400-1727874000@connorsstate.edu
SUMMARY:Coffee with a Cop
DESCRIPTION:All Faculty\, Staff\, and Students are invited to come and join our local officers for lunch in the Student Union Cafe. \nThis is a great opportunity to ask questions and learn firsthand about a law enforcement career.
URL:https://connorsstate.edu/event/coffee-with-a-cop/
LOCATION:CSC Student Union\, 700 College Rd\, Warner\, OK\, 74469\, United States
END:VEVENT
BEGIN:VEVENT
DTSTART;TZID=America/Chicago:20241002T140000
DTEND;TZID=America/Chicago:20241002T170000
DTSTAMP:20260420T223515
CREATED:20240905T194915Z
LAST-MODIFIED:20240905T194915Z
UID:39082-1727877600-1727888400@connorsstate.edu
SUMMARY:CSC Softball @ Southern Nazarene
DESCRIPTION:Bethany\, OK
URL:https://connorsstate.edu/event/csc-softball-southern-nazarene/
LOCATION:OK
ORGANIZER;CN="Coach Bobby Foreman":MAILTO:fbobby@connorsstate.edu
END:VEVENT
END:VCALENDAR