BEGIN:VCALENDAR
VERSION:2.0
PRODID:-//Connors State College - ECPv6.15.17.1//NONSGML v1.0//EN
CALSCALE:GREGORIAN
METHOD:PUBLISH
X-ORIGINAL-URL:https://connorsstate.edu
X-WR-CALDESC:Events for Connors State College
REFRESH-INTERVAL;VALUE=DURATION:PT1H
X-Robots-Tag:noindex
X-PUBLISHED-TTL:PT1H
BEGIN:VTIMEZONE
TZID:America/Chicago
BEGIN:DAYLIGHT
TZOFFSETFROM:-0600
TZOFFSETTO:-0500
TZNAME:CDT
DTSTART:20230312T080000
END:DAYLIGHT
BEGIN:STANDARD
TZOFFSETFROM:-0500
TZOFFSETTO:-0600
TZNAME:CST
DTSTART:20231105T070000
END:STANDARD
BEGIN:DAYLIGHT
TZOFFSETFROM:-0600
TZOFFSETTO:-0500
TZNAME:CDT
DTSTART:20240310T080000
END:DAYLIGHT
BEGIN:STANDARD
TZOFFSETFROM:-0500
TZOFFSETTO:-0600
TZNAME:CST
DTSTART:20241103T070000
END:STANDARD
BEGIN:DAYLIGHT
TZOFFSETFROM:-0600
TZOFFSETTO:-0500
TZNAME:CDT
DTSTART:20250309T080000
END:DAYLIGHT
BEGIN:STANDARD
TZOFFSETFROM:-0500
TZOFFSETTO:-0600
TZNAME:CST
DTSTART:20251102T070000
END:STANDARD
END:VTIMEZONE
BEGIN:VEVENT
DTSTART;VALUE=DATE:20241002
DTEND;VALUE=DATE:20241007
DTSTAMP:20260421T000213
CREATED:20240911T145946Z
LAST-MODIFIED:20240911T145946Z
UID:39414-1727827200-1728259199@connorsstate.edu
SUMMARY:CSC Archery Team- National 3D Championship
DESCRIPTION:USA Archery National 3D Championship
URL:https://connorsstate.edu/event/csc-archery-team-national-3d-championship/
LOCATION:OK
ORGANIZER;CN="Coach Johnny King":MAILTO:john.king10@connorsstate.edu
END:VEVENT
BEGIN:VEVENT
DTSTART;VALUE=DATE:20241003
DTEND;VALUE=DATE:20241004
DTSTAMP:20260421T000213
CREATED:20240905T201249Z
LAST-MODIFIED:20240905T201249Z
UID:39095-1727913600-1727999999@connorsstate.edu
SUMMARY:Domestic Awareness-WISH Walk-Walk A Mile In Her Shoes
DESCRIPTION:Muskogee\, OK
URL:https://connorsstate.edu/event/domestic-awareness-wish-walk-walk-a-mile-in-her-shoes/
LOCATION:OK
END:VEVENT
BEGIN:VEVENT
DTSTART;VALUE=DATE:20241003
DTEND;VALUE=DATE:20241004
DTSTAMP:20260421T000213
CREATED:20240910T211459Z
LAST-MODIFIED:20240910T211459Z
UID:39297-1727913600-1727999999@connorsstate.edu
SUMMARY:CSC Cross Country Meet- WISH Run
DESCRIPTION:
URL:https://connorsstate.edu/event/csc-cross-country-meet-wish-run/
LOCATION:OK
ORGANIZER;CN="Coach Korey Keith":MAILTO:koreywk@connorsstate.edu
END:VEVENT
END:VCALENDAR