BEGIN:VCALENDAR
VERSION:2.0
PRODID:-//Connors State College - ECPv6.15.17.1//NONSGML v1.0//EN
CALSCALE:GREGORIAN
METHOD:PUBLISH
X-WR-CALNAME:Connors State College
X-ORIGINAL-URL:https://connorsstate.edu
X-WR-CALDESC:Events for Connors State College
REFRESH-INTERVAL;VALUE=DURATION:PT1H
X-Robots-Tag:noindex
X-PUBLISHED-TTL:PT1H
BEGIN:VTIMEZONE
TZID:America/Chicago
BEGIN:DAYLIGHT
TZOFFSETFROM:-0600
TZOFFSETTO:-0500
TZNAME:CDT
DTSTART:20230312T080000
END:DAYLIGHT
BEGIN:STANDARD
TZOFFSETFROM:-0500
TZOFFSETTO:-0600
TZNAME:CST
DTSTART:20231105T070000
END:STANDARD
BEGIN:DAYLIGHT
TZOFFSETFROM:-0600
TZOFFSETTO:-0500
TZNAME:CDT
DTSTART:20240310T080000
END:DAYLIGHT
BEGIN:STANDARD
TZOFFSETFROM:-0500
TZOFFSETTO:-0600
TZNAME:CST
DTSTART:20241103T070000
END:STANDARD
BEGIN:DAYLIGHT
TZOFFSETFROM:-0600
TZOFFSETTO:-0500
TZNAME:CDT
DTSTART:20250309T080000
END:DAYLIGHT
BEGIN:STANDARD
TZOFFSETFROM:-0500
TZOFFSETTO:-0600
TZNAME:CST
DTSTART:20251102T070000
END:STANDARD
END:VTIMEZONE
BEGIN:VEVENT
DTSTART;VALUE=DATE:20241002
DTEND;VALUE=DATE:20241007
DTSTAMP:20260420T210211
CREATED:20240911T145946Z
LAST-MODIFIED:20240911T145946Z
UID:39414-1727827200-1728259199@connorsstate.edu
SUMMARY:CSC Archery Team- National 3D Championship
DESCRIPTION:USA Archery National 3D Championship
URL:https://connorsstate.edu/event/csc-archery-team-national-3d-championship/
LOCATION:OK
ORGANIZER;CN="Coach Johnny King":MAILTO:john.king10@connorsstate.edu
END:VEVENT
BEGIN:VEVENT
DTSTART;VALUE=DATE:20241005
DTEND;VALUE=DATE:20241006
DTSTAMP:20260420T210211
CREATED:20240910T211542Z
LAST-MODIFIED:20240910T211542Z
UID:39299-1728086400-1728172799@connorsstate.edu
SUMMARY:CSC Cross Country Meet- Warner Bull Run
DESCRIPTION:
URL:https://connorsstate.edu/event/csc-cross-country-meet-warner-bull-run/
LOCATION:Warner Campus\, 700 College Rd\, Warner\, OK\, 74469\, United States
ORGANIZER;CN="Coach Korey Keith":MAILTO:koreywk@connorsstate.edu
END:VEVENT
BEGIN:VEVENT
DTSTART;TZID=America/Chicago:20241005T130000
DTEND;TZID=America/Chicago:20241005T170000
DTSTAMP:20260420T210211
CREATED:20240905T194959Z
LAST-MODIFIED:20240905T194959Z
UID:39084-1728133200-1728147600@connorsstate.edu
SUMMARY:CSC Softball @ OK Wesleyan
DESCRIPTION:Bartlesville\, OK
URL:https://connorsstate.edu/event/csc-softball-ok-wesleyan/
LOCATION:OK
ORGANIZER;CN="Coach Bobby Foreman":MAILTO:fbobby@connorsstate.edu
END:VEVENT
END:VCALENDAR