BEGIN:VCALENDAR
VERSION:2.0
PRODID:-//Connors State College - ECPv6.15.17.1//NONSGML v1.0//EN
CALSCALE:GREGORIAN
METHOD:PUBLISH
X-WR-CALNAME:Connors State College
X-ORIGINAL-URL:https://connorsstate.edu
X-WR-CALDESC:Events for Connors State College
REFRESH-INTERVAL;VALUE=DURATION:PT1H
X-Robots-Tag:noindex
X-PUBLISHED-TTL:PT1H
BEGIN:VTIMEZONE
TZID:America/Chicago
BEGIN:DAYLIGHT
TZOFFSETFROM:-0600
TZOFFSETTO:-0500
TZNAME:CDT
DTSTART:20230312T080000
END:DAYLIGHT
BEGIN:STANDARD
TZOFFSETFROM:-0500
TZOFFSETTO:-0600
TZNAME:CST
DTSTART:20231105T070000
END:STANDARD
BEGIN:DAYLIGHT
TZOFFSETFROM:-0600
TZOFFSETTO:-0500
TZNAME:CDT
DTSTART:20240310T080000
END:DAYLIGHT
BEGIN:STANDARD
TZOFFSETFROM:-0500
TZOFFSETTO:-0600
TZNAME:CST
DTSTART:20241103T070000
END:STANDARD
BEGIN:DAYLIGHT
TZOFFSETFROM:-0600
TZOFFSETTO:-0500
TZNAME:CDT
DTSTART:20250309T080000
END:DAYLIGHT
BEGIN:STANDARD
TZOFFSETFROM:-0500
TZOFFSETTO:-0600
TZNAME:CST
DTSTART:20251102T070000
END:STANDARD
END:VTIMEZONE
BEGIN:VEVENT
DTSTART;TZID=America/Chicago:20241008T120000
DTEND;TZID=America/Chicago:20241008T140000
DTSTAMP:20260420T210201
CREATED:20240905T194118Z
LAST-MODIFIED:20240905T194118Z
UID:39066-1728388800-1728396000@connorsstate.edu
SUMMARY:CSC Baseball vs Carl Albert State College
DESCRIPTION:
URL:https://connorsstate.edu/event/csc-baseball-vs-carl-albert-state-college-3/
LOCATION:Biff Thompson Field at Perry Keith Park\, 700 College Rd\, Warner\, OK\, 74469\, United States
END:VEVENT
BEGIN:VEVENT
DTSTART;TZID=America/Chicago:20241008T160000
DTEND;TZID=America/Chicago:20241008T190000
DTSTAMP:20260420T210201
CREATED:20240827T184702Z
LAST-MODIFIED:20240827T184702Z
UID:38731-1728403200-1728414000@connorsstate.edu
SUMMARY:FFA Regional Greenhand and Opening Ceremonies Contest
DESCRIPTION:
URL:https://connorsstate.edu/event/ffa-regional-greenhand-and-opening-ceremonies-contest/
LOCATION:OK
END:VEVENT
END:VCALENDAR