BEGIN:VCALENDAR
VERSION:2.0
PRODID:-//Connors State College - ECPv6.15.17.1//NONSGML v1.0//EN
CALSCALE:GREGORIAN
METHOD:PUBLISH
X-ORIGINAL-URL:https://connorsstate.edu
X-WR-CALDESC:Events for Connors State College
REFRESH-INTERVAL;VALUE=DURATION:PT1H
X-Robots-Tag:noindex
X-PUBLISHED-TTL:PT1H
BEGIN:VTIMEZONE
TZID:America/Chicago
BEGIN:DAYLIGHT
TZOFFSETFROM:-0600
TZOFFSETTO:-0500
TZNAME:CDT
DTSTART:20230312T080000
END:DAYLIGHT
BEGIN:STANDARD
TZOFFSETFROM:-0500
TZOFFSETTO:-0600
TZNAME:CST
DTSTART:20231105T070000
END:STANDARD
BEGIN:DAYLIGHT
TZOFFSETFROM:-0600
TZOFFSETTO:-0500
TZNAME:CDT
DTSTART:20240310T080000
END:DAYLIGHT
BEGIN:STANDARD
TZOFFSETFROM:-0500
TZOFFSETTO:-0600
TZNAME:CST
DTSTART:20241103T070000
END:STANDARD
BEGIN:DAYLIGHT
TZOFFSETFROM:-0600
TZOFFSETTO:-0500
TZNAME:CDT
DTSTART:20250309T080000
END:DAYLIGHT
BEGIN:STANDARD
TZOFFSETFROM:-0500
TZOFFSETTO:-0600
TZNAME:CST
DTSTART:20251102T070000
END:STANDARD
END:VTIMEZONE
BEGIN:VEVENT
DTSTART;VALUE=DATE:20241017
DTEND;VALUE=DATE:20241020
DTSTAMP:20260420T223510
CREATED:20240910T192450Z
LAST-MODIFIED:20240910T192450Z
UID:39275-1729123200-1729382399@connorsstate.edu
SUMMARY:CSC Rodeo @ OSU
DESCRIPTION:
URL:https://connorsstate.edu/event/csc-rodeo-osu/
LOCATION:OK
ORGANIZER;CN="Coach Jake Walker":MAILTO:jake.walker@connorsstate.edu
END:VEVENT
BEGIN:VEVENT
DTSTART;TZID=America/Chicago:20241017T130000
DTEND;TZID=America/Chicago:20241017T150000
DTSTAMP:20260420T223510
CREATED:20240905T194244Z
LAST-MODIFIED:20240905T194244Z
UID:39070-1729170000-1729177200@connorsstate.edu
SUMMARY:CSC Baseball vs Northeastern State
DESCRIPTION:
URL:https://connorsstate.edu/event/csc-baseball-vs-northeastern-state/
LOCATION:Biff Thompson Field at Perry Keith Park\, 700 College Rd\, Warner\, OK\, 74469\, United States
END:VEVENT
END:VCALENDAR