BEGIN:VCALENDAR
VERSION:2.0
PRODID:-//Connors State College - ECPv6.15.17.1//NONSGML v1.0//EN
CALSCALE:GREGORIAN
METHOD:PUBLISH
X-ORIGINAL-URL:https://connorsstate.edu
X-WR-CALDESC:Events for Connors State College
REFRESH-INTERVAL;VALUE=DURATION:PT1H
X-Robots-Tag:noindex
X-PUBLISHED-TTL:PT1H
BEGIN:VTIMEZONE
TZID:America/Chicago
BEGIN:DAYLIGHT
TZOFFSETFROM:-0600
TZOFFSETTO:-0500
TZNAME:CDT
DTSTART:20230312T080000
END:DAYLIGHT
BEGIN:STANDARD
TZOFFSETFROM:-0500
TZOFFSETTO:-0600
TZNAME:CST
DTSTART:20231105T070000
END:STANDARD
BEGIN:DAYLIGHT
TZOFFSETFROM:-0600
TZOFFSETTO:-0500
TZNAME:CDT
DTSTART:20240310T080000
END:DAYLIGHT
BEGIN:STANDARD
TZOFFSETFROM:-0500
TZOFFSETTO:-0600
TZNAME:CST
DTSTART:20241103T070000
END:STANDARD
BEGIN:DAYLIGHT
TZOFFSETFROM:-0600
TZOFFSETTO:-0500
TZNAME:CDT
DTSTART:20250309T080000
END:DAYLIGHT
BEGIN:STANDARD
TZOFFSETFROM:-0500
TZOFFSETTO:-0600
TZNAME:CST
DTSTART:20251102T070000
END:STANDARD
END:VTIMEZONE
BEGIN:VEVENT
DTSTART;VALUE=DATE:20241101
DTEND;VALUE=DATE:20241130
DTSTAMP:20260420T193121
CREATED:20241111T142922Z
LAST-MODIFIED:20241111T142922Z
UID:40328-1730419200-1732924799@connorsstate.edu
SUMMARY:CSC Food Drive
DESCRIPTION:
URL:https://connorsstate.edu/event/csc-food-drive/
LOCATION:Warner Campus\, 700 College Rd\, Warner\, OK\, 74469\, United States
END:VEVENT
BEGIN:VEVENT
DTSTART;VALUE=DATE:20241111
DTEND;VALUE=DATE:20241112
DTSTAMP:20260420T193121
CREATED:20240829T155042Z
LAST-MODIFIED:20240829T155042Z
UID:38863-1731283200-1731369599@connorsstate.edu
SUMMARY:Cowboy Basketball @ Dallas College- Cedar Valley
DESCRIPTION:Lancaster\, TX
URL:https://connorsstate.edu/event/cowboy-basketball-dallas-college-cedar-valley/
LOCATION:OK
END:VEVENT
BEGIN:VEVENT
DTSTART;TZID=America/Chicago:20241111T183000
DTEND;TZID=America/Chicago:20241111T220000
DTSTAMP:20260420T193121
CREATED:20241031T194501Z
LAST-MODIFIED:20241031T194501Z
UID:40177-1731349800-1731362400@connorsstate.edu
SUMMARY:Fall Jack Pot
DESCRIPTION:Ladies Breakaway Roping 2/$80 (Ladies and Boys 14 & Under) \nOpen Tie Down 2/$120 \n\nCan Enter twice\, cash only fees
URL:https://connorsstate.edu/event/fall-jack-pot-2/
LOCATION:Fred Williams Indoor Arena\, 700 College Rd\, Warner\, OK\, 74469\, United States
ORGANIZER;CN="Coach Jake Walker":MAILTO:jake.walker@connorsstate.edu
END:VEVENT
END:VCALENDAR