BEGIN:VCALENDAR
VERSION:2.0
PRODID:-//Connors State College - ECPv6.15.17.1//NONSGML v1.0//EN
CALSCALE:GREGORIAN
METHOD:PUBLISH
X-ORIGINAL-URL:https://connorsstate.edu
X-WR-CALDESC:Events for Connors State College
REFRESH-INTERVAL;VALUE=DURATION:PT1H
X-Robots-Tag:noindex
X-PUBLISHED-TTL:PT1H
BEGIN:VTIMEZONE
TZID:America/Chicago
BEGIN:DAYLIGHT
TZOFFSETFROM:-0600
TZOFFSETTO:-0500
TZNAME:CDT
DTSTART:20230312T080000
END:DAYLIGHT
BEGIN:STANDARD
TZOFFSETFROM:-0500
TZOFFSETTO:-0600
TZNAME:CST
DTSTART:20231105T070000
END:STANDARD
BEGIN:DAYLIGHT
TZOFFSETFROM:-0600
TZOFFSETTO:-0500
TZNAME:CDT
DTSTART:20240310T080000
END:DAYLIGHT
BEGIN:STANDARD
TZOFFSETFROM:-0500
TZOFFSETTO:-0600
TZNAME:CST
DTSTART:20241103T070000
END:STANDARD
BEGIN:DAYLIGHT
TZOFFSETFROM:-0600
TZOFFSETTO:-0500
TZNAME:CDT
DTSTART:20250309T080000
END:DAYLIGHT
BEGIN:STANDARD
TZOFFSETFROM:-0500
TZOFFSETTO:-0600
TZNAME:CST
DTSTART:20251102T070000
END:STANDARD
END:VTIMEZONE
BEGIN:VEVENT
DTSTART;VALUE=DATE:20241101
DTEND;VALUE=DATE:20241130
DTSTAMP:20260420T193121
CREATED:20241111T142922Z
LAST-MODIFIED:20241111T142922Z
UID:40328-1730419200-1732924799@connorsstate.edu
SUMMARY:CSC Food Drive
DESCRIPTION:
URL:https://connorsstate.edu/event/csc-food-drive/
LOCATION:Warner Campus\, 700 College Rd\, Warner\, OK\, 74469\, United States
END:VEVENT
BEGIN:VEVENT
DTSTART;VALUE=DATE:20241115
DTEND;VALUE=DATE:20241116
DTSTAMP:20260420T193121
CREATED:20240827T185741Z
LAST-MODIFIED:20240827T185741Z
UID:38748-1731628800-1731715199@connorsstate.edu
SUMMARY:CSC Alumni and Friends Timed Event Rodeo
DESCRIPTION:
URL:https://connorsstate.edu/event/csc-alumni-and-friends-timed-event-rodeo/
LOCATION:OK
END:VEVENT
BEGIN:VEVENT
DTSTART;TZID=America/Chicago:20241115T173000
DTEND;TZID=America/Chicago:20241115T190000
DTSTAMP:20260420T193121
CREATED:20240829T155330Z
LAST-MODIFIED:20240829T155330Z
UID:38865-1731691800-1731697200@connorsstate.edu
SUMMARY:Cowboy Basketball @ Fort Scott (North Ark Classic)
DESCRIPTION:Harrison\, AR
URL:https://connorsstate.edu/event/cowboy-basketball-fort-scott-north-ark-classic/
LOCATION:OK
END:VEVENT
BEGIN:VEVENT
DTSTART;TZID=America/Chicago:20241115T190000
DTEND;TZID=America/Chicago:20241115T233000
DTSTAMP:20260420T193121
CREATED:20241031T192745Z
LAST-MODIFIED:20241031T192812Z
UID:40172-1731697200-1731713400@connorsstate.edu
SUMMARY:Alumni and Friends- Timed  Event Rodeo
DESCRIPTION:Books Open at 5 pm \nBooks Close Rodeo begins @ 7 pm \n$80 Cash Entry Fees\, Barrel Racing (max of 2 Horses)\, Steer Wrestling\, Calf Roping. Women’s Breakaway Roping (12 and under boys)\, Team Roping ($40 a man\, enter 3 times) \n  \n$5 Gate Admission- Free with Current CSC ID
URL:https://connorsstate.edu/event/alumni-and-friends-timed-event-rodeo/
LOCATION:Fred Williams Indoor Arena\, 700 College Rd\, Warner\, OK\, 74469\, United States
ORGANIZER;CN="Coach Jake Walker":MAILTO:jake.walker@connorsstate.edu
END:VEVENT
END:VCALENDAR