BEGIN:VCALENDAR
VERSION:2.0
PRODID:-//Connors State College - ECPv6.15.17.1//NONSGML v1.0//EN
CALSCALE:GREGORIAN
METHOD:PUBLISH
X-WR-CALNAME:Connors State College
X-ORIGINAL-URL:https://connorsstate.edu
X-WR-CALDESC:Events for Connors State College
REFRESH-INTERVAL;VALUE=DURATION:PT1H
X-Robots-Tag:noindex
X-PUBLISHED-TTL:PT1H
BEGIN:VTIMEZONE
TZID:America/Chicago
BEGIN:DAYLIGHT
TZOFFSETFROM:-0600
TZOFFSETTO:-0500
TZNAME:CDT
DTSTART:20230312T080000
END:DAYLIGHT
BEGIN:STANDARD
TZOFFSETFROM:-0500
TZOFFSETTO:-0600
TZNAME:CST
DTSTART:20231105T070000
END:STANDARD
BEGIN:DAYLIGHT
TZOFFSETFROM:-0600
TZOFFSETTO:-0500
TZNAME:CDT
DTSTART:20240310T080000
END:DAYLIGHT
BEGIN:STANDARD
TZOFFSETFROM:-0500
TZOFFSETTO:-0600
TZNAME:CST
DTSTART:20241103T070000
END:STANDARD
BEGIN:DAYLIGHT
TZOFFSETFROM:-0600
TZOFFSETTO:-0500
TZNAME:CDT
DTSTART:20250309T080000
END:DAYLIGHT
BEGIN:STANDARD
TZOFFSETFROM:-0500
TZOFFSETTO:-0600
TZNAME:CST
DTSTART:20251102T070000
END:STANDARD
END:VTIMEZONE
BEGIN:VEVENT
DTSTART;VALUE=DATE:20241101
DTEND;VALUE=DATE:20241130
DTSTAMP:20260420T193033
CREATED:20241111T142922Z
LAST-MODIFIED:20241111T142922Z
UID:40328-1730419200-1732924799@connorsstate.edu
SUMMARY:CSC Food Drive
DESCRIPTION:
URL:https://connorsstate.edu/event/csc-food-drive/
LOCATION:Warner Campus\, 700 College Rd\, Warner\, OK\, 74469\, United States
END:VEVENT
BEGIN:VEVENT
DTSTART;TZID=America/Chicago:20241116T140000
DTEND;TZID=America/Chicago:20241116T160000
DTSTAMP:20260420T193033
CREATED:20240829T143124Z
LAST-MODIFIED:20240829T143124Z
UID:38795-1731765600-1731772800@connorsstate.edu
SUMMARY:Cowgirls Basketball vs Crowder
DESCRIPTION:
URL:https://connorsstate.edu/event/cowgirls-basketball-vs-crowder/
LOCATION:Melvin Self Fieldhouse\, 700 College Rd\, Warner\, OK\, 74469\, United States
ORGANIZER;CN="Coach Jaylen Thompson":MAILTO:jaylen.thompson@connorsstate.edu
END:VEVENT
BEGIN:VEVENT
DTSTART;TZID=America/Chicago:20241116T140000
DTEND;TZID=America/Chicago:20241116T163000
DTSTAMP:20260420T193033
CREATED:20240829T155453Z
LAST-MODIFIED:20240829T155453Z
UID:38867-1731765600-1731774600@connorsstate.edu
SUMMARY:Cowboy Basketball @ North Ark (North Ark Classic)
DESCRIPTION:Harrison\, AR
URL:https://connorsstate.edu/event/cowboy-basketball-north-ark-north-ark-classic/
LOCATION:OK
END:VEVENT
END:VCALENDAR